BEGIN:VCALENDAR
VERSION:2.0
PRODID:-//Margaret Jenkins Elementary - ECPv6.2.8.1//NONSGML v1.0//EN
CALSCALE:GREGORIAN
METHOD:PUBLISH
X-ORIGINAL-URL:https://margaretjenkins.sd61.bc.ca
X-WR-CALDESC:Events for Margaret Jenkins Elementary
REFRESH-INTERVAL;VALUE=DURATION:PT1H
X-Robots-Tag:noindex
X-PUBLISHED-TTL:PT1H
BEGIN:VTIMEZONE
TZID:America/Vancouver
BEGIN:DAYLIGHT
TZOFFSETFROM:-0800
TZOFFSETTO:-0700
TZNAME:PDT
DTSTART:20130310T100000
END:DAYLIGHT
BEGIN:STANDARD
TZOFFSETFROM:-0700
TZOFFSETTO:-0800
TZNAME:PST
DTSTART:20131103T090000
END:STANDARD
END:VTIMEZONE
BEGIN:VEVENT
DTSTART;VALUE=DATE:20130502
DTEND;VALUE=DATE:20130503
DTSTAMP:20260419T144713
CREATED:20130508T190118Z
LAST-MODIFIED:20130603T162837Z
UID:619-1367452800-1367539199@margaretjenkins.sd61.bc.ca
SUMMARY:Fieldtrip: Div. 3\, 4\, 5\, 6\,7\,10\,12\,13 – Mary Winspear Hall - Sidney
DESCRIPTION:
URL:https://margaretjenkins.sd61.bc.ca/calendar-event/fieldtrip-div-3-4-5-67101213-mary-winspear-hall-sidney/
END:VEVENT
BEGIN:VEVENT
DTSTART;TZID=America/Vancouver:20130502T030000
DTEND;TZID=America/Vancouver:20130502T160000
DTSTAMP:20260419T144713
CREATED:20130508T190221Z
LAST-MODIFIED:20130603T162837Z
UID:621-1367463600-1367510400@margaretjenkins.sd61.bc.ca
SUMMARY:Gr. 4/5 Girls’ & Boys ’ Rugby Practice
DESCRIPTION:
URL:https://margaretjenkins.sd61.bc.ca/calendar-event/gr-45-girls-boys-rugby-practice/
END:VEVENT
BEGIN:VEVENT
DTSTART;TZID=America/Vancouver:20130503T080000
DTEND;TZID=America/Vancouver:20130503T085000
DTSTAMP:20260419T144713
CREATED:20130508T190254Z
LAST-MODIFIED:20130603T162836Z
UID:622-1367568000-1367571000@margaretjenkins.sd61.bc.ca
SUMMARY:Cross Country Practice
DESCRIPTION:
URL:https://margaretjenkins.sd61.bc.ca/calendar-event/cross-country-practice-2/
END:VEVENT
BEGIN:VEVENT
DTSTART;TZID=America/Vancouver:20130503T084500
DTEND;TZID=America/Vancouver:20130503T100500
DTSTAMP:20260419T144713
CREATED:20130508T190451Z
LAST-MODIFIED:20130603T162836Z
UID:623-1367570700-1367575500@margaretjenkins.sd61.bc.ca
SUMMARY:Div. 7 - Artist is Residence with Tim Gosley – Puppeteer
DESCRIPTION:
URL:https://margaretjenkins.sd61.bc.ca/calendar-event/div-7-artist-is-residence-with-tim-gosley-puppeteer/
END:VEVENT
BEGIN:VEVENT
DTSTART;TZID=America/Vancouver:20130503T103000
DTEND;TZID=America/Vancouver:20130503T120000
DTSTAMP:20260419T144713
CREATED:20130508T190530Z
LAST-MODIFIED:20130603T162836Z
UID:624-1367577000-1367582400@margaretjenkins.sd61.bc.ca
SUMMARY:Div. 4 - Artist is Residence with Tim Gosley - Puppeteer
DESCRIPTION:
URL:https://margaretjenkins.sd61.bc.ca/calendar-event/div-4-artist-is-residence-with-tim-gosley-puppeteer/
END:VEVENT
BEGIN:VEVENT
DTSTART;TZID=America/Vancouver:20130503T110000
DTEND;TZID=America/Vancouver:20130503T120000
DTSTAMP:20260419T144713
CREATED:20130508T190556Z
LAST-MODIFIED:20130603T162836Z
UID:625-1367578800-1367582400@margaretjenkins.sd61.bc.ca
SUMMARY:Rock Solid – Mini Rugby Jamboree
DESCRIPTION:
URL:https://margaretjenkins.sd61.bc.ca/calendar-event/rock-solid-mini-rugby-jamboree/
END:VEVENT
END:VCALENDAR