BEGIN:VCALENDAR
VERSION:2.0
PRODID:-//Margaret Jenkins Elementary - ECPv6.2.8.1//NONSGML v1.0//EN
CALSCALE:GREGORIAN
METHOD:PUBLISH
X-ORIGINAL-URL:https://margaretjenkins.sd61.bc.ca
X-WR-CALDESC:Events for Margaret Jenkins Elementary
REFRESH-INTERVAL;VALUE=DURATION:PT1H
X-Robots-Tag:noindex
X-PUBLISHED-TTL:PT1H
BEGIN:VTIMEZONE
TZID:America/Vancouver
BEGIN:DAYLIGHT
TZOFFSETFROM:-0800
TZOFFSETTO:-0700
TZNAME:PDT
DTSTART:20190310T100000
END:DAYLIGHT
BEGIN:STANDARD
TZOFFSETFROM:-0700
TZOFFSETTO:-0800
TZNAME:PST
DTSTART:20191103T090000
END:STANDARD
END:VTIMEZONE
BEGIN:VEVENT
DTSTART;TZID=America/Vancouver:20190114T080000
DTEND;TZID=America/Vancouver:20190118T150000
DTSTAMP:20260423T160412
CREATED:20180528T214108Z
LAST-MODIFIED:20180528T214108Z
UID:3884-1547452800-1547823600@margaretjenkins.sd61.bc.ca
SUMMARY:Early French Immersion Registration Week
DESCRIPTION:Kindergarten French Immersion Registration and Grade 1 French Immersion Registration (for students entering French Immersion for the first time)
URL:https://margaretjenkins.sd61.bc.ca/calendar-event/early-french-immersion-registration-week-3/
END:VEVENT
END:VCALENDAR