BEGIN:VCALENDAR
VERSION:2.0
PRODID:-//Margaret Jenkins Elementary - ECPv6.2.8.1//NONSGML v1.0//EN
CALSCALE:GREGORIAN
METHOD:PUBLISH
X-ORIGINAL-URL:https://margaretjenkins.sd61.bc.ca
X-WR-CALDESC:Events for Margaret Jenkins Elementary
REFRESH-INTERVAL;VALUE=DURATION:PT1H
X-Robots-Tag:noindex
X-PUBLISHED-TTL:PT1H
BEGIN:VTIMEZONE
TZID:America/Vancouver
BEGIN:DAYLIGHT
TZOFFSETFROM:-0800
TZOFFSETTO:-0700
TZNAME:PDT
DTSTART:20190310T100000
END:DAYLIGHT
BEGIN:STANDARD
TZOFFSETFROM:-0700
TZOFFSETTO:-0800
TZNAME:PST
DTSTART:20191103T090000
END:STANDARD
END:VTIMEZONE
BEGIN:VEVENT
DTSTART;TZID=America/Vancouver:20190516T115000
DTEND;TZID=America/Vancouver:20190516T121000
DTSTAMP:20260423T041140
CREATED:20190506T225147Z
LAST-MODIFIED:20190506T225147Z
UID:4351-1558007400-1558008600@margaretjenkins.sd61.bc.ca
SUMMARY:Grade 3 Track Practice
DESCRIPTION:
URL:https://margaretjenkins.sd61.bc.ca/calendar-event/grade-3-track-practice-3/
END:VEVENT
BEGIN:VEVENT
DTSTART;TZID=America/Vancouver:20190516T123000
DTEND;TZID=America/Vancouver:20190516T150000
DTSTAMP:20260423T041140
CREATED:20180528T223526Z
LAST-MODIFIED:20180528T223526Z
UID:3895-1558009800-1558018800@margaretjenkins.sd61.bc.ca
SUMMARY:District Orientation Day
DESCRIPTION:All grade 5 students have the opportunity to visit their middle schools today.  We will have a walking field trip to our catchment schools Central and Monterey.  Students who are heading to a middle school other than our catchment schools should make alternate arrangements.
URL:https://margaretjenkins.sd61.bc.ca/calendar-event/district-orientation-day/
END:VEVENT
BEGIN:VEVENT
DTSTART;TZID=America/Vancouver:20190517T080000
DTEND;TZID=America/Vancouver:20190517T170000
DTSTAMP:20260423T041140
CREATED:20180424T204003Z
LAST-MODIFIED:20180424T204003Z
UID:3840-1558080000-1558112400@margaretjenkins.sd61.bc.ca
SUMMARY:ProD Day
DESCRIPTION:no school for students
URL:https://margaretjenkins.sd61.bc.ca/calendar-event/prod-day-17/
END:VEVENT
END:VCALENDAR