BEGIN:VCALENDAR
VERSION:2.0
PRODID:-//Margaret Jenkins Elementary - ECPv6.2.8.1//NONSGML v1.0//EN
CALSCALE:GREGORIAN
METHOD:PUBLISH
X-WR-CALNAME:Margaret Jenkins Elementary
X-ORIGINAL-URL:https://margaretjenkins.sd61.bc.ca
X-WR-CALDESC:Events for Margaret Jenkins Elementary
REFRESH-INTERVAL;VALUE=DURATION:PT1H
X-Robots-Tag:noindex
X-PUBLISHED-TTL:PT1H
BEGIN:VTIMEZONE
TZID:America/Vancouver
BEGIN:DAYLIGHT
TZOFFSETFROM:-0800
TZOFFSETTO:-0700
TZNAME:PDT
DTSTART:20130310T100000
END:DAYLIGHT
BEGIN:STANDARD
TZOFFSETFROM:-0700
TZOFFSETTO:-0800
TZNAME:PST
DTSTART:20131103T090000
END:STANDARD
END:VTIMEZONE
BEGIN:VEVENT
DTSTART;TZID=America/Vancouver:20130412T121000
DTEND;TZID=America/Vancouver:20130412T131000
DTSTAMP:20260419T235931
CREATED:20130607T214126Z
LAST-MODIFIED:20130607T215241Z
UID:1036-1365768600-1365772200@margaretjenkins.sd61.bc.ca
SUMMARY:Chess Club
DESCRIPTION:
URL:https://margaretjenkins.sd61.bc.ca/calendar-event/chess-club-8/
LOCATION:Library
END:VEVENT
BEGIN:VEVENT
DTSTART;TZID=America/Vancouver:20130412T080000
DTEND;TZID=America/Vancouver:20130412T085000
DTSTAMP:20260419T235931
CREATED:20130607T214042Z
LAST-MODIFIED:20130607T215241Z
UID:1035-1365753600-1365756600@margaretjenkins.sd61.bc.ca
SUMMARY:Cross Country Practice
DESCRIPTION:
URL:https://margaretjenkins.sd61.bc.ca/calendar-event/cross-country-practice-7/
END:VEVENT
BEGIN:VEVENT
DTSTART;TZID=America/Vancouver:20130411T150000
DTEND;TZID=America/Vancouver:20130411T160000
DTSTAMP:20260419T235931
CREATED:20130607T214346Z
LAST-MODIFIED:20130607T215241Z
UID:1044-1365692400-1365696000@margaretjenkins.sd61.bc.ca
SUMMARY:Gr. 4/5 Girls’ & Boys’ Rugby Practice
DESCRIPTION:
URL:https://margaretjenkins.sd61.bc.ca/calendar-event/gr-45-girls-boys-rugby-practice-10/
LOCATION:On the field
END:VEVENT
BEGIN:VEVENT
DTSTART;TZID=America/Vancouver:20130411T150000
DTEND;TZID=America/Vancouver:20130411T160000
DTSTAMP:20260419T235931
CREATED:20130607T214309Z
LAST-MODIFIED:20130607T215241Z
UID:1043-1365692400-1365696000@margaretjenkins.sd61.bc.ca
SUMMARY:Aboriginal Awareness – with Lavonne Poitras
DESCRIPTION:
URL:https://margaretjenkins.sd61.bc.ca/calendar-event/aboriginal-awareness-with-lavonne-poitras/
END:VEVENT
BEGIN:VEVENT
DTSTART;TZID=America/Vancouver:20130411T121000
DTEND;TZID=America/Vancouver:20130411T130000
DTSTAMP:20260419T235931
CREATED:20130607T214246Z
LAST-MODIFIED:20130607T215241Z
UID:1041-1365682200-1365685200@margaretjenkins.sd61.bc.ca
SUMMARY:Student Book Club
DESCRIPTION:
URL:https://margaretjenkins.sd61.bc.ca/calendar-event/student-book-club-2/
LOCATION:Library
END:VEVENT
BEGIN:VEVENT
DTSTART;VALUE=DATE:20130411
DTEND;VALUE=DATE:20130412
DTSTAMP:20260419T235931
CREATED:20130607T214217Z
LAST-MODIFIED:20130607T215241Z
UID:1040-1365638400-1365724799@margaretjenkins.sd61.bc.ca
SUMMARY:School Newsletter
DESCRIPTION:
URL:https://margaretjenkins.sd61.bc.ca/calendar-event/school-newsletter-5/
END:VEVENT
BEGIN:VEVENT
DTSTART;VALUE=DATE:20130411
DTEND;VALUE=DATE:20130412
DTSTAMP:20260419T235931
CREATED:20130607T214154Z
LAST-MODIFIED:20130607T215241Z
UID:1038-1365638400-1365724799@margaretjenkins.sd61.bc.ca
SUMMARY:Fieldtrip: Div. 16 – Swan Lake Workshop at ÉMJS
DESCRIPTION:
URL:https://margaretjenkins.sd61.bc.ca/calendar-event/fieldtrip-div-16-swan-lake-workshop-at-emjs/
LOCATION:ÉMJS
END:VEVENT
BEGIN:VEVENT
DTSTART;TZID=America/Vancouver:20130410T150000
DTEND;TZID=America/Vancouver:20130410T160000
DTSTAMP:20260419T235931
CREATED:20130607T214456Z
LAST-MODIFIED:20130607T215241Z
UID:1048-1365606000-1365609600@margaretjenkins.sd61.bc.ca
SUMMARY:Staff Meeting
DESCRIPTION:
URL:https://margaretjenkins.sd61.bc.ca/calendar-event/staff-meeting-3/
END:VEVENT
BEGIN:VEVENT
DTSTART;TZID=America/Vancouver:20130410T080000
DTEND;TZID=America/Vancouver:20130410T085000
DTSTAMP:20260419T235931
CREATED:20130607T214434Z
LAST-MODIFIED:20130607T215241Z
UID:1047-1365580800-1365583800@margaretjenkins.sd61.bc.ca
SUMMARY:Cross Country Practice
DESCRIPTION:
URL:https://margaretjenkins.sd61.bc.ca/calendar-event/cross-country-practice-8/
END:VEVENT
BEGIN:VEVENT
DTSTART;VALUE=DATE:20130410
DTEND;VALUE=DATE:20130411
DTSTAMP:20260419T235931
CREATED:20130607T214413Z
LAST-MODIFIED:20130619T173333Z
UID:1046-1365552000-1365638399@margaretjenkins.sd61.bc.ca
SUMMARY:Pizza/Sushi Day
DESCRIPTION:
URL:https://margaretjenkins.sd61.bc.ca/calendar-event/pizzasushi-day-5/
END:VEVENT
BEGIN:VEVENT
DTSTART;TZID=America/Vancouver:20130409T190000
DTEND;TZID=America/Vancouver:20130409T190000
DTSTAMP:20260419T235931
CREATED:20130607T214625Z
LAST-MODIFIED:20130619T173334Z
UID:1052-1365534000-1365534000@margaretjenkins.sd61.bc.ca
SUMMARY:How to be an Approachable Parent - Jennifer Gibson from the I sland Sexual Health Society
DESCRIPTION:Childminding is provided
URL:https://margaretjenkins.sd61.bc.ca/calendar-event/how-to-be-an-approachable-parent-jennifer-gibson-from-the-i-sland-sexual-health-society/
LOCATION:Gym
END:VEVENT
BEGIN:VEVENT
DTSTART;TZID=America/Vancouver:20130409T030000
DTEND;TZID=America/Vancouver:20130409T040000
DTSTAMP:20260419T235931
CREATED:20130607T214543Z
LAST-MODIFIED:20130619T173334Z
UID:1050-1365476400-1365480000@margaretjenkins.sd61.bc.ca
SUMMARY:Gr. 4/5 Girls’ & Boys’ Rugby Practice
DESCRIPTION:
URL:https://margaretjenkins.sd61.bc.ca/calendar-event/gr-45-girls-boys-rugby-practice-11/
LOCATION:On the field
END:VEVENT
BEGIN:VEVENT
DTSTART;VALUE=DATE:20130409
DTEND;VALUE=DATE:20130410
DTSTAMP:20260419T235931
CREATED:20130607T214516Z
LAST-MODIFIED:20130619T173334Z
UID:1049-1365465600-1365551999@margaretjenkins.sd61.bc.ca
SUMMARY:Fieldtrip: Div. 7 - RBC Museum
DESCRIPTION:
URL:https://margaretjenkins.sd61.bc.ca/calendar-event/fieldtrip-div-7-rbc-museum/
END:VEVENT
BEGIN:VEVENT
DTSTART;TZID=America/Vancouver:20130408T121000
DTEND;TZID=America/Vancouver:20130408T125000
DTSTAMP:20260419T235931
CREATED:20130607T214721Z
LAST-MODIFIED:20130619T173334Z
UID:1055-1365423000-1365425400@margaretjenkins.sd61.bc.ca
SUMMARY:Gr. 3 – 5 Choir Practice – new members welcome
DESCRIPTION:
URL:https://margaretjenkins.sd61.bc.ca/calendar-event/gr-3-5-choir-practice-new-members-welcome-2/
END:VEVENT
BEGIN:VEVENT
DTSTART;TZID=America/Vancouver:20130408T080000
DTEND;TZID=America/Vancouver:20130408T085000
DTSTAMP:20260419T235931
CREATED:20130607T214650Z
LAST-MODIFIED:20130619T173334Z
UID:1054-1365408000-1365411000@margaretjenkins.sd61.bc.ca
SUMMARY:Cross Country Practice
DESCRIPTION:
URL:https://margaretjenkins.sd61.bc.ca/calendar-event/cross-country-practice-9/
END:VEVENT
BEGIN:VEVENT
DTSTART;TZID=America/Vancouver:20130408T030000
DTEND;TZID=America/Vancouver:20130408T040000
DTSTAMP:20260419T235931
CREATED:20130607T214745Z
LAST-MODIFIED:20130619T173334Z
UID:1056-1365390000-1365393600@margaretjenkins.sd61.bc.ca
SUMMARY:Sportball
DESCRIPTION:
URL:https://margaretjenkins.sd61.bc.ca/calendar-event/sportball-10/
END:VEVENT
BEGIN:VEVENT
DTSTART;TZID=America/Vancouver:20130405T150000
DTEND;TZID=America/Vancouver:20130405T160000
DTSTAMP:20260419T235931
CREATED:20130607T214917Z
LAST-MODIFIED:20130619T173334Z
UID:1059-1365174000-1365177600@margaretjenkins.sd61.bc.ca
SUMMARY:Gr. 4/5 Girls’ & Boys’ Rugby Practice
DESCRIPTION:
URL:https://margaretjenkins.sd61.bc.ca/calendar-event/gr-45-girls-boys-rugby-practice-12/
LOCATION:On the field
END:VEVENT
BEGIN:VEVENT
DTSTART;TZID=America/Vancouver:20130405T001000
DTEND;TZID=America/Vancouver:20130405T125000
DTSTAMP:20260419T235931
CREATED:20130607T214827Z
LAST-MODIFIED:20130619T173334Z
UID:1057-1365120600-1365166200@margaretjenkins.sd61.bc.ca
SUMMARY:Grade 1 – Mini Basketball
DESCRIPTION:
URL:https://margaretjenkins.sd61.bc.ca/calendar-event/grade-1-mini-basketball/
LOCATION:Gym
END:VEVENT
BEGIN:VEVENT
DTSTART;TZID=America/Vancouver:20130404T140000
DTEND;TZID=America/Vancouver:20130404T170000
DTSTAMP:20260419T235931
CREATED:20130607T215026Z
LAST-MODIFIED:20130619T173334Z
UID:1062-1365084000-1365094800@margaretjenkins.sd61.bc.ca
SUMMARY:Parent/Teacher Conferences
DESCRIPTION:
URL:https://margaretjenkins.sd61.bc.ca/calendar-event/parentteacher-conferences/
END:VEVENT
BEGIN:VEVENT
DTSTART;VALUE=DATE:20130404
DTEND;VALUE=DATE:20130405
DTSTAMP:20260419T235931
CREATED:20130607T214959Z
LAST-MODIFIED:20130619T173334Z
UID:1061-1365033600-1365119999@margaretjenkins.sd61.bc.ca
SUMMARY:1:51 pm Dismissal
DESCRIPTION:
URL:https://margaretjenkins.sd61.bc.ca/calendar-event/151-pm-dismissal/
END:VEVENT
BEGIN:VEVENT
DTSTART;VALUE=DATE:20130403
DTEND;VALUE=DATE:20130404
DTSTAMP:20260419T235931
CREATED:20130607T215052Z
LAST-MODIFIED:20130619T173334Z
UID:1063-1364947200-1365033599@margaretjenkins.sd61.bc.ca
SUMMARY:Fieldtrip: Div. 11 – Oak Bay Fire Hall
DESCRIPTION:
URL:https://margaretjenkins.sd61.bc.ca/calendar-event/fieldtrip-div-11-oak-bay-fire-hall/
END:VEVENT
BEGIN:VEVENT
DTSTART;VALUE=DATE:20130402
DTEND;VALUE=DATE:20130403
DTSTAMP:20260419T235931
CREATED:20130607T215111Z
LAST-MODIFIED:20130619T173334Z
UID:1064-1364860800-1364947199@margaretjenkins.sd61.bc.ca
SUMMARY:School Newsletter
DESCRIPTION:
URL:https://margaretjenkins.sd61.bc.ca/calendar-event/school-newsletter-6/
END:VEVENT
BEGIN:VEVENT
DTSTART;VALUE=DATE:20130401
DTEND;VALUE=DATE:20130402
DTSTAMP:20260419T235931
CREATED:20130607T215125Z
LAST-MODIFIED:20130619T173334Z
UID:1065-1364774400-1364860799@margaretjenkins.sd61.bc.ca
SUMMARY:Easter Monday
DESCRIPTION:
URL:https://margaretjenkins.sd61.bc.ca/calendar-event/easter-monday/
END:VEVENT
BEGIN:VEVENT
DTSTART;VALUE=DATE:20130329
DTEND;VALUE=DATE:20130330
DTSTAMP:20260419T235931
CREATED:20130619T173249Z
LAST-MODIFIED:20130619T173334Z
UID:1331-1364515200-1364601599@margaretjenkins.sd61.bc.ca
SUMMARY:Good Friday
DESCRIPTION:
URL:https://margaretjenkins.sd61.bc.ca/calendar-event/good-friday/
END:VEVENT
BEGIN:VEVENT
DTSTART;TZID=America/Vancouver:20130328T190000
DTEND;TZID=America/Vancouver:20130328T210000
DTSTAMP:20260419T235931
CREATED:20130619T173236Z
LAST-MODIFIED:20130619T173334Z
UID:1330-1364497200-1364504400@margaretjenkins.sd61.bc.ca
SUMMARY:PAC Meeting
DESCRIPTION:
URL:https://margaretjenkins.sd61.bc.ca/calendar-event/pac-meeting-4/
END:VEVENT
BEGIN:VEVENT
DTSTART;TZID=America/Vancouver:20130328T150000
DTEND;TZID=America/Vancouver:20130328T160000
DTSTAMP:20260419T235931
CREATED:20130619T173158Z
LAST-MODIFIED:20130619T173334Z
UID:1328-1364482800-1364486400@margaretjenkins.sd61.bc.ca
SUMMARY:Grade 4/5 Girls and Boys Rugby Practice
DESCRIPTION:
URL:https://margaretjenkins.sd61.bc.ca/calendar-event/grade-45-girls-and-boys-rugby-practice-5/
LOCATION:On the field
END:VEVENT
BEGIN:VEVENT
DTSTART;TZID=America/Vancouver:20130328T130000
DTEND;TZID=America/Vancouver:20130328T133000
DTSTAMP:20260419T235931
CREATED:20130619T173126Z
LAST-MODIFIED:20130619T173334Z
UID:1327-1364475600-1364477400@margaretjenkins.sd61.bc.ca
SUMMARY:Assembly
DESCRIPTION:
URL:https://margaretjenkins.sd61.bc.ca/calendar-event/assembly-6/
END:VEVENT
BEGIN:VEVENT
DTSTART;TZID=America/Vancouver:20130327T150000
DTEND;TZID=America/Vancouver:20130327T150500
DTSTAMP:20260419T235931
CREATED:20130619T173101Z
LAST-MODIFIED:20130619T173334Z
UID:1326-1364396400-1364396700@margaretjenkins.sd61.bc.ca
SUMMARY:Deadline to order tickets for the Opera Tosca
DESCRIPTION:$10/student
URL:https://margaretjenkins.sd61.bc.ca/calendar-event/deadline-to-order-tickets-for-the-opera-tosca/
END:VEVENT
BEGIN:VEVENT
DTSTART;VALUE=DATE:20130327
DTEND;VALUE=DATE:20130328
DTSTAMP:20260419T235931
CREATED:20130619T173025Z
LAST-MODIFIED:20130619T173341Z
UID:1325-1364342400-1364428799@margaretjenkins.sd61.bc.ca
SUMMARY:Pizza/Sushi
DESCRIPTION:
URL:https://margaretjenkins.sd61.bc.ca/calendar-event/pizzasushi/
END:VEVENT
BEGIN:VEVENT
DTSTART;VALUE=DATE:20130327
DTEND;VALUE=DATE:20130328
DTSTAMP:20260419T235931
CREATED:20130619T173003Z
LAST-MODIFIED:20130619T173334Z
UID:1324-1364342400-1364428799@margaretjenkins.sd61.bc.ca
SUMMARY:Fieldtrip: Div. 2 - Q Radio Station
DESCRIPTION:
URL:https://margaretjenkins.sd61.bc.ca/calendar-event/fieldtrip-div-2-q-radio-station/
END:VEVENT
END:VCALENDAR