BEGIN:VCALENDAR
VERSION:2.0
PRODID:-//Margaret Jenkins Elementary - ECPv6.2.8.1//NONSGML v1.0//EN
CALSCALE:GREGORIAN
METHOD:PUBLISH
X-ORIGINAL-URL:https://margaretjenkins.sd61.bc.ca
X-WR-CALDESC:Events for Margaret Jenkins Elementary
REFRESH-INTERVAL;VALUE=DURATION:PT1H
X-Robots-Tag:noindex
X-PUBLISHED-TTL:PT1H
BEGIN:VTIMEZONE
TZID:America/Vancouver
BEGIN:DAYLIGHT
TZOFFSETFROM:-0800
TZOFFSETTO:-0700
TZNAME:PDT
DTSTART:20130310T100000
END:DAYLIGHT
BEGIN:STANDARD
TZOFFSETFROM:-0700
TZOFFSETTO:-0800
TZNAME:PST
DTSTART:20131103T090000
END:STANDARD
END:VTIMEZONE
BEGIN:VEVENT
DTSTART;VALUE=DATE:20130107
DTEND;VALUE=DATE:20130108
DTSTAMP:20260420T232704
CREATED:20130614T202558Z
LAST-MODIFIED:20130614T202558Z
UID:1071-1357516800-1357603199@margaretjenkins.sd61.bc.ca
SUMMARY:Schools re-open after Winter Vacation
DESCRIPTION:
URL:https://margaretjenkins.sd61.bc.ca/calendar-event/schools-re-open-after-winter-vacation/
END:VEVENT
BEGIN:VEVENT
DTSTART;VALUE=DATE:20130109
DTEND;VALUE=DATE:20130110
DTSTAMP:20260420T232704
CREATED:20130614T202635Z
LAST-MODIFIED:20130614T202643Z
UID:1072-1357689600-1357775999@margaretjenkins.sd61.bc.ca
SUMMARY:Pizza/Sushi Day (last one of this session)
DESCRIPTION:
URL:https://margaretjenkins.sd61.bc.ca/calendar-event/pizzasushi-dat-last-one-of-this-session/
END:VEVENT
BEGIN:VEVENT
DTSTART;TZID=America/Vancouver:20130111T121000
DTEND;TZID=America/Vancouver:20130111T130000
DTSTAMP:20260420T232704
CREATED:20130614T202718Z
LAST-MODIFIED:20130614T222759Z
UID:1073-1357906200-1357909200@margaretjenkins.sd61.bc.ca
SUMMARY:Chess Club
DESCRIPTION:
URL:https://margaretjenkins.sd61.bc.ca/calendar-event/chess-club-9/
LOCATION:The Library
END:VEVENT
BEGIN:VEVENT
DTSTART;TZID=America/Vancouver:20130114T121000
DTEND;TZID=America/Vancouver:20130114T125000
DTSTAMP:20260420T232704
CREATED:20130614T202805Z
LAST-MODIFIED:20130614T202805Z
UID:1075-1358165400-1358167800@margaretjenkins.sd61.bc.ca
SUMMARY:Grade 3 to 5 Choir Practice
DESCRIPTION:
URL:https://margaretjenkins.sd61.bc.ca/calendar-event/grade-3-to-5-choir-practice/
LOCATION:Music Room
END:VEVENT
BEGIN:VEVENT
DTSTART;TZID=America/Vancouver:20130116T121000
DTEND;TZID=America/Vancouver:20130116T125000
DTSTAMP:20260420T232704
CREATED:20130614T202846Z
LAST-MODIFIED:20130614T202846Z
UID:1077-1358338200-1358340600@margaretjenkins.sd61.bc.ca
SUMMARY:Grade 4/5 Girls Basketball Practice
DESCRIPTION:
URL:https://margaretjenkins.sd61.bc.ca/calendar-event/grade-45-girls-basketball-practice/
END:VEVENT
BEGIN:VEVENT
DTSTART;TZID=America/Vancouver:20130116T150000
DTEND;TZID=America/Vancouver:20130116T160000
DTSTAMP:20260420T232704
CREATED:20130614T202924Z
LAST-MODIFIED:20130614T222802Z
UID:1078-1358348400-1358352000@margaretjenkins.sd61.bc.ca
SUMMARY:Staff Meeting
DESCRIPTION:
URL:https://margaretjenkins.sd61.bc.ca/calendar-event/staff-meeting-4/
END:VEVENT
BEGIN:VEVENT
DTSTART;VALUE=DATE:20130117
DTEND;VALUE=DATE:20130118
DTSTAMP:20260420T232704
CREATED:20130614T202944Z
LAST-MODIFIED:20130614T202944Z
UID:1079-1358380800-1358467199@margaretjenkins.sd61.bc.ca
SUMMARY:School Newsletter
DESCRIPTION:
URL:https://margaretjenkins.sd61.bc.ca/calendar-event/school-newsletter-7/
END:VEVENT
BEGIN:VEVENT
DTSTART;TZID=America/Vancouver:20130117T121000
DTEND;TZID=America/Vancouver:20130117T125000
DTSTAMP:20260420T232704
CREATED:20130614T203028Z
LAST-MODIFIED:20130614T203028Z
UID:1080-1358424600-1358427000@margaretjenkins.sd61.bc.ca
SUMMARY:Grade 4/5 Boys Basketball Practice
DESCRIPTION:
URL:https://margaretjenkins.sd61.bc.ca/calendar-event/grade-45-boys-basketball-practice/
LOCATION:Gym
END:VEVENT
BEGIN:VEVENT
DTSTART;TZID=America/Vancouver:20130117T130000
DTEND;TZID=America/Vancouver:20130117T140000
DTSTAMP:20260420T232704
CREATED:20130614T203128Z
LAST-MODIFIED:20130614T203128Z
UID:1082-1358427600-1358431200@margaretjenkins.sd61.bc.ca
SUMMARY:Skating - Div. 5\, 6\, 7\, 9\, 13
DESCRIPTION:Helmets are mandatory (Bike Helmets are OK)
URL:https://margaretjenkins.sd61.bc.ca/calendar-event/skating-div-5-6-7-9-13/
LOCATION:Oak Bay Rec Centre
END:VEVENT
BEGIN:VEVENT
DTSTART;VALUE=DATE:20130118
DTEND;VALUE=DATE:20130119
DTSTAMP:20260420T232704
CREATED:20130614T203314Z
LAST-MODIFIED:20130614T203314Z
UID:1088-1358467200-1358553599@margaretjenkins.sd61.bc.ca
SUMMARY:Swim Club
DESCRIPTION:
URL:https://margaretjenkins.sd61.bc.ca/calendar-event/swim-club/
LOCATION:Crystal Pool
END:VEVENT
BEGIN:VEVENT
DTSTART;TZID=America/Vancouver:20130118T121000
DTEND;TZID=America/Vancouver:20130118T235000
DTSTAMP:20260420T232704
CREATED:20130614T203204Z
LAST-MODIFIED:20130619T173427Z
UID:1084-1358511000-1358553000@margaretjenkins.sd61.bc.ca
SUMMARY:Grade 1 Mini Basketball
DESCRIPTION:
URL:https://margaretjenkins.sd61.bc.ca/calendar-event/grade-1-mini-basketball-2/
LOCATION:Gym
END:VEVENT
BEGIN:VEVENT
DTSTART;TZID=America/Vancouver:20130118T121000
DTEND;TZID=America/Vancouver:20130118T130000
DTSTAMP:20260420T232704
CREATED:20130614T203246Z
LAST-MODIFIED:20130614T203246Z
UID:1086-1358511000-1358514000@margaretjenkins.sd61.bc.ca
SUMMARY:Chess Club
DESCRIPTION:
URL:https://margaretjenkins.sd61.bc.ca/calendar-event/chess-club-10/
LOCATION:Library
END:VEVENT
BEGIN:VEVENT
DTSTART;TZID=America/Vancouver:20130121T121000
DTEND;TZID=America/Vancouver:20130121T125000
DTSTAMP:20260420T232704
CREATED:20130614T203416Z
LAST-MODIFIED:20130614T203530Z
UID:1090-1358770200-1358772600@margaretjenkins.sd61.bc.ca
SUMMARY:Grade 3 to 5 Choir Practice
DESCRIPTION:
URL:https://margaretjenkins.sd61.bc.ca/calendar-event/grade-3-to-5-choir-practice-2/
LOCATION:Music Room
END:VEVENT
BEGIN:VEVENT
DTSTART;TZID=America/Vancouver:20130121T121000
DTEND;TZID=America/Vancouver:20130121T125000
DTSTAMP:20260420T232704
CREATED:20130614T203618Z
LAST-MODIFIED:20130614T203618Z
UID:1092-1358770200-1358772600@margaretjenkins.sd61.bc.ca
SUMMARY:Grade 4/5 Boys Basketball Practice
DESCRIPTION:
URL:https://margaretjenkins.sd61.bc.ca/calendar-event/grade-45-boys-basketball-practice-2/
LOCATION:Gym
END:VEVENT
BEGIN:VEVENT
DTSTART;TZID=America/Vancouver:20130121T150000
DTEND;TZID=America/Vancouver:20130121T160000
DTSTAMP:20260420T232704
CREATED:20130614T203708Z
LAST-MODIFIED:20130614T203708Z
UID:1094-1358780400-1358784000@margaretjenkins.sd61.bc.ca
SUMMARY:Sportball
DESCRIPTION:Register at www.sportball.ca
URL:https://margaretjenkins.sd61.bc.ca/calendar-event/sportball-11/
LOCATION:Gym
END:VEVENT
BEGIN:VEVENT
DTSTART;TZID=America/Vancouver:20130122T121000
DTEND;TZID=America/Vancouver:20130122T130000
DTSTAMP:20260420T232704
CREATED:20130614T203749Z
LAST-MODIFIED:20130614T203749Z
UID:1097-1358856600-1358859600@margaretjenkins.sd61.bc.ca
SUMMARY:Grade 4/5 Girls Basketball Practice
DESCRIPTION:
URL:https://margaretjenkins.sd61.bc.ca/calendar-event/grade-45-girls-basketball-practice-2/
LOCATION:Gym
END:VEVENT
BEGIN:VEVENT
DTSTART;TZID=America/Vancouver:20130122T153000
DTEND;TZID=America/Vancouver:20130122T170000
DTSTAMP:20260420T232704
CREATED:20130614T203840Z
LAST-MODIFIED:20130614T203840Z
UID:1099-1358868600-1358874000@margaretjenkins.sd61.bc.ca
SUMMARY:Grade 3 to 5 Girls Softball Practice
DESCRIPTION:
URL:https://margaretjenkins.sd61.bc.ca/calendar-event/grade-3-to-5-girls-softball-practice/
LOCATION:Gym
END:VEVENT
BEGIN:VEVENT
DTSTART;TZID=America/Vancouver:20130122T183000
DTEND;TZID=America/Vancouver:20130122T200000
DTSTAMP:20260420T232704
CREATED:20130614T204009Z
LAST-MODIFIED:20130614T204009Z
UID:1101-1358879400-1358884800@margaretjenkins.sd61.bc.ca
SUMMARY:General Kindergarten Information Evening (For New Registrations - Sept.\, 2013)
DESCRIPTION:
URL:https://margaretjenkins.sd61.bc.ca/calendar-event/general-kindergarten-information-evening-for-new-registrations-sept-2013/
LOCATION:SJ Willis School\, 923 Topaz Avenue
END:VEVENT
BEGIN:VEVENT
DTSTART;VALUE=DATE:20130123
DTEND;VALUE=DATE:20130124
DTSTAMP:20260420T232704
CREATED:20130614T205112Z
LAST-MODIFIED:20130614T205112Z
UID:1103-1358899200-1358985599@margaretjenkins.sd61.bc.ca
SUMMARY:Pizza/Sushi Day (last one of this session)
DESCRIPTION:
URL:https://margaretjenkins.sd61.bc.ca/calendar-event/pizzasushi-day-last-one-of-this-session/
END:VEVENT
BEGIN:VEVENT
DTSTART;TZID=America/Vancouver:20130123T121000
DTEND;TZID=America/Vancouver:20130123T125000
DTSTAMP:20260420T232704
CREATED:20130614T205225Z
LAST-MODIFIED:20130614T205225Z
UID:1105-1358943000-1358945400@margaretjenkins.sd61.bc.ca
SUMMARY:Grade 4/5 Girls Basketball Practice
DESCRIPTION:
URL:https://margaretjenkins.sd61.bc.ca/calendar-event/grade-45-girls-basketball-practice-3/
LOCATION:Gym
END:VEVENT
BEGIN:VEVENT
DTSTART;TZID=America/Vancouver:20130123T180000
DTEND;TZID=America/Vancouver:20130123T190000
DTSTAMP:20260420T232704
CREATED:20130614T205326Z
LAST-MODIFIED:20130614T205326Z
UID:1107-1358964000-1358967600@margaretjenkins.sd61.bc.ca
SUMMARY:Parent Presentation - Internet Safety with Darren Laur
DESCRIPTION:Childminding will be available.
URL:https://margaretjenkins.sd61.bc.ca/calendar-event/parent-presentation-internet-safety-with-darren-laur/
LOCATION:Gym
END:VEVENT
BEGIN:VEVENT
DTSTART;TZID=America/Vancouver:20130124T121000
DTEND;TZID=America/Vancouver:20130124T125000
DTSTAMP:20260420T232704
CREATED:20130614T205409Z
LAST-MODIFIED:20130614T205409Z
UID:1109-1359029400-1359031800@margaretjenkins.sd61.bc.ca
SUMMARY:Grade 4/5 Boys Baseball Pitching Practice
DESCRIPTION:
URL:https://margaretjenkins.sd61.bc.ca/calendar-event/grade-45-boys-baseball-pitching-practice/
LOCATION:Gym
END:VEVENT
BEGIN:VEVENT
DTSTART;TZID=America/Vancouver:20130124T130000
DTEND;TZID=America/Vancouver:20130124T133000
DTSTAMP:20260420T232704
CREATED:20130614T205606Z
LAST-MODIFIED:20130614T205606Z
UID:1111-1359032400-1359034200@margaretjenkins.sd61.bc.ca
SUMMARY:Assembly
DESCRIPTION:
URL:https://margaretjenkins.sd61.bc.ca/calendar-event/assembly-4/
END:VEVENT
BEGIN:VEVENT
DTSTART;TZID=America/Vancouver:20130124T183000
DTEND;TZID=America/Vancouver:20130124T193000
DTSTAMP:20260420T232704
CREATED:20130614T205721Z
LAST-MODIFIED:20130614T205721Z
UID:1112-1359052200-1359055800@margaretjenkins.sd61.bc.ca
SUMMARY:early French Immersion Kindergarten and Grade 1 Info Evening
DESCRIPTION:For new Registrations – Sept.\, 2013
URL:https://margaretjenkins.sd61.bc.ca/calendar-event/early-french-immersion-kindergarten-and-grade-1-info-evening/
LOCATION:SJ Willis School
END:VEVENT
BEGIN:VEVENT
DTSTART;TZID=America/Vancouver:20130124T190000
DTEND;TZID=America/Vancouver:20130124T190000
DTSTAMP:20260420T232704
CREATED:20130614T205756Z
LAST-MODIFIED:20130614T205756Z
UID:1114-1359054000-1359054000@margaretjenkins.sd61.bc.ca
SUMMARY:PAC Meeting
DESCRIPTION:
URL:https://margaretjenkins.sd61.bc.ca/calendar-event/pac-meeting-2/
END:VEVENT
BEGIN:VEVENT
DTSTART;VALUE=DATE:20130125
DTEND;VALUE=DATE:20130126
DTSTAMP:20260420T232704
CREATED:20130614T211503Z
LAST-MODIFIED:20130614T211503Z
UID:1115-1359072000-1359158399@margaretjenkins.sd61.bc.ca
SUMMARY:Deadline to order pizza/sushi on-line at www.emjspac.ca
DESCRIPTION:
URL:https://margaretjenkins.sd61.bc.ca/calendar-event/deadline-to-order-pizzasushi-on-line-at-www-emjspac-ca/
END:VEVENT
BEGIN:VEVENT
DTSTART;VALUE=DATE:20130125
DTEND;VALUE=DATE:20130126
DTSTAMP:20260420T232705
CREATED:20130614T211532Z
LAST-MODIFIED:20130614T211532Z
UID:1116-1359072000-1359158399@margaretjenkins.sd61.bc.ca
SUMMARY:EMJS Pro-D Day
DESCRIPTION:No School
URL:https://margaretjenkins.sd61.bc.ca/calendar-event/emjs-pro-d-day/
END:VEVENT
BEGIN:VEVENT
DTSTART;TZID=America/Vancouver:20130125T100000
DTEND;TZID=America/Vancouver:20130125T110000
DTSTAMP:20260420T232705
CREATED:20130614T211613Z
LAST-MODIFIED:20130614T211613Z
UID:1117-1359108000-1359111600@margaretjenkins.sd61.bc.ca
SUMMARY:Extra Grade 4/5 Boys Basketball Practice
DESCRIPTION:
URL:https://margaretjenkins.sd61.bc.ca/calendar-event/extra-grade-45-boys-basketball-practice/
LOCATION:Gym
END:VEVENT
BEGIN:VEVENT
DTSTART;TZID=America/Vancouver:20130125T110000
DTEND;TZID=America/Vancouver:20130125T120000
DTSTAMP:20260420T232705
CREATED:20130614T211649Z
LAST-MODIFIED:20130614T211649Z
UID:1119-1359111600-1359115200@margaretjenkins.sd61.bc.ca
SUMMARY:Extra Grade 4/5 Girls Basketball Practice
DESCRIPTION:
URL:https://margaretjenkins.sd61.bc.ca/calendar-event/extra-grade-45-girls-basketball-practice/
LOCATION:Gym
END:VEVENT
BEGIN:VEVENT
DTSTART;VALUE=DATE:20130128
DTEND;VALUE=DATE:20130202
DTSTAMP:20260420T232705
CREATED:20130614T211716Z
LAST-MODIFIED:20130614T211716Z
UID:1121-1359331200-1359763199@margaretjenkins.sd61.bc.ca
SUMMARY:Kindergarten Registration Week
DESCRIPTION:
URL:https://margaretjenkins.sd61.bc.ca/calendar-event/kindergarten-registration-week/
END:VEVENT
END:VCALENDAR