BEGIN:VCALENDAR
VERSION:2.0
PRODID:-//Margaret Jenkins Elementary - ECPv6.2.8.1//NONSGML v1.0//EN
CALSCALE:GREGORIAN
METHOD:PUBLISH
X-ORIGINAL-URL:https://margaretjenkins.sd61.bc.ca
X-WR-CALDESC:Events for Margaret Jenkins Elementary
REFRESH-INTERVAL;VALUE=DURATION:PT1H
X-Robots-Tag:noindex
X-PUBLISHED-TTL:PT1H
BEGIN:VTIMEZONE
TZID:America/Vancouver
BEGIN:DAYLIGHT
TZOFFSETFROM:-0800
TZOFFSETTO:-0700
TZNAME:PDT
DTSTART:20130310T100000
END:DAYLIGHT
BEGIN:STANDARD
TZOFFSETFROM:-0700
TZOFFSETTO:-0800
TZNAME:PST
DTSTART:20131103T090000
END:STANDARD
END:VTIMEZONE
BEGIN:VEVENT
DTSTART;TZID=America/Vancouver:20130610T150000
DTEND;TZID=America/Vancouver:20130610T160000
DTSTAMP:20260419T201541
CREATED:20130508T200810Z
LAST-MODIFIED:20130607T215142Z
UID:687-1370876400-1370880000@margaretjenkins.sd61.bc.ca
SUMMARY:Sportball
DESCRIPTION:
URL:https://margaretjenkins.sd61.bc.ca/calendar-event/sportball-5/
END:VEVENT
BEGIN:VEVENT
DTSTART;TZID=America/Vancouver:20130612T150000
DTEND;TZID=America/Vancouver:20130612T160000
DTSTAMP:20260419T201541
CREATED:20130508T200832Z
LAST-MODIFIED:20130607T215142Z
UID:688-1371049200-1371052800@margaretjenkins.sd61.bc.ca
SUMMARY:Staff Meeting
DESCRIPTION:
URL:https://margaretjenkins.sd61.bc.ca/calendar-event/staff-meeting-2/
END:VEVENT
BEGIN:VEVENT
DTSTART;TZID=America/Vancouver:20130614T001000
DTEND;TZID=America/Vancouver:20130614T131000
DTSTAMP:20260419T201541
CREATED:20130508T200858Z
LAST-MODIFIED:20130607T215142Z
UID:689-1371168600-1371215400@margaretjenkins.sd61.bc.ca
SUMMARY:Chess Club
DESCRIPTION:
URL:https://margaretjenkins.sd61.bc.ca/calendar-event/chess-club-5/
END:VEVENT
BEGIN:VEVENT
DTSTART;TZID=America/Vancouver:20130614T100000
DTEND;TZID=America/Vancouver:20130614T230000
DTSTAMP:20260419T201541
CREATED:20130614T205148Z
LAST-MODIFIED:20130614T205148Z
UID:1104-1371204000-1371250800@margaretjenkins.sd61.bc.ca
SUMMARY:Division 2 - Weather School with Astrid
DESCRIPTION:CTV News (to air at 6:00 pm)
URL:https://margaretjenkins.sd61.bc.ca/calendar-event/division-2-weather-school-with-astrid/
END:VEVENT
BEGIN:VEVENT
DTSTART;TZID=America/Vancouver:20130617T150000
DTEND;TZID=America/Vancouver:20130617T160000
DTSTAMP:20260419T201541
CREATED:20130508T200926Z
LAST-MODIFIED:20130607T215142Z
UID:690-1371481200-1371484800@margaretjenkins.sd61.bc.ca
SUMMARY:Sportball
DESCRIPTION:
URL:https://margaretjenkins.sd61.bc.ca/calendar-event/sportball-6/
END:VEVENT
BEGIN:VEVENT
DTSTART;TZID=America/Vancouver:20130617T153000
DTEND;TZID=America/Vancouver:20130617T170000
DTSTAMP:20260419T201541
CREATED:20130619T155354Z
LAST-MODIFIED:20130619T155354Z
UID:1236-1371483000-1371488400@margaretjenkins.sd61.bc.ca
SUMMARY:Darren Laur–Safe Kids Pres.
DESCRIPTION:
URL:https://margaretjenkins.sd61.bc.ca/calendar-event/darren-laur-safe-kids-pres-2/
END:VEVENT
BEGIN:VEVENT
DTSTART;TZID=America/Vancouver:20130625T153000
DTEND;TZID=America/Vancouver:20130625T170000
DTSTAMP:20260419T201541
CREATED:20130619T155332Z
LAST-MODIFIED:20130619T155332Z
UID:1235-1372174200-1372179600@margaretjenkins.sd61.bc.ca
SUMMARY:Darren Laur–Safe Kids Pres.
DESCRIPTION:
URL:https://margaretjenkins.sd61.bc.ca/calendar-event/darren-laur-safe-kids-pres/
END:VEVENT
BEGIN:VEVENT
DTSTART;TZID=America/Vancouver:20130626T134500
DTEND;TZID=America/Vancouver:20130626T164500
DTSTAMP:20260419T201541
CREATED:20130508T200950Z
LAST-MODIFIED:20130607T215142Z
UID:691-1372254300-1372265100@margaretjenkins.sd61.bc.ca
SUMMARY:Grade 5 Recognition Ceremony
DESCRIPTION:
URL:https://margaretjenkins.sd61.bc.ca/calendar-event/grade-5-recognition-ceremony/
END:VEVENT
BEGIN:VEVENT
DTSTART;VALUE=DATE:20130627
DTEND;VALUE=DATE:20130628
DTSTAMP:20260419T201541
CREATED:20130508T201008Z
LAST-MODIFIED:20130607T215142Z
UID:692-1372291200-1372377599@margaretjenkins.sd61.bc.ca
SUMMARY:Last day of school for students
DESCRIPTION:
URL:https://margaretjenkins.sd61.bc.ca/calendar-event/last-day-of-school-for-students/
END:VEVENT
BEGIN:VEVENT
DTSTART;TZID=America/Vancouver:20130627T130000
DTEND;TZID=America/Vancouver:20130627T140000
DTSTAMP:20260419T201541
CREATED:20130508T201027Z
LAST-MODIFIED:20130607T215142Z
UID:693-1372338000-1372341600@margaretjenkins.sd61.bc.ca
SUMMARY:Assembly
DESCRIPTION:
URL:https://margaretjenkins.sd61.bc.ca/calendar-event/assembly-2/
END:VEVENT
BEGIN:VEVENT
DTSTART;TZID=America/Vancouver:20130627T145000
DTEND;TZID=America/Vancouver:20130627T145000
DTSTAMP:20260419T201541
CREATED:20130508T201116Z
LAST-MODIFIED:20130607T215142Z
UID:694-1372344600-1372344600@margaretjenkins.sd61.bc.ca
SUMMARY:Dismissal
DESCRIPTION:
URL:https://margaretjenkins.sd61.bc.ca/calendar-event/dismissal/
END:VEVENT
BEGIN:VEVENT
DTSTART;VALUE=DATE:20130628
DTEND;VALUE=DATE:20130629
DTSTAMP:20260419T201541
CREATED:20130508T201137Z
LAST-MODIFIED:20130607T215142Z
UID:695-1372377600-1372463999@margaretjenkins.sd61.bc.ca
SUMMARY:Year-end Administrative Day
DESCRIPTION:
URL:https://margaretjenkins.sd61.bc.ca/calendar-event/year-end-administrative-day/
END:VEVENT
BEGIN:VEVENT
DTSTART;VALUE=DATE:20130826
DTEND;VALUE=DATE:20130827
DTSTAMP:20260419T201541
CREATED:20130627T182725Z
LAST-MODIFIED:20130627T182725Z
UID:1461-1377475200-1377561599@margaretjenkins.sd61.bc.ca
SUMMARY:ÉMJS Office Opens
DESCRIPTION:
URL:https://margaretjenkins.sd61.bc.ca/calendar-event/emjs-office-opens/
END:VEVENT
BEGIN:VEVENT
DTSTART;VALUE=DATE:20130902
DTEND;VALUE=DATE:20130903
DTSTAMP:20260419T201541
CREATED:20130627T160105Z
LAST-MODIFIED:20130627T160105Z
UID:1339-1378080000-1378166399@margaretjenkins.sd61.bc.ca
SUMMARY:Labour Day – No School
DESCRIPTION:
URL:https://margaretjenkins.sd61.bc.ca/calendar-event/labour-day-no-school/
END:VEVENT
BEGIN:VEVENT
DTSTART;TZID=America/Vancouver:20130903T081500
DTEND;TZID=America/Vancouver:20130903T090000
DTSTAMP:20260419T201541
CREATED:20130627T160131Z
LAST-MODIFIED:20130627T160131Z
UID:1340-1378196100-1378198800@margaretjenkins.sd61.bc.ca
SUMMARY:PAC Welcome Back Coffee
DESCRIPTION:
URL:https://margaretjenkins.sd61.bc.ca/calendar-event/pac-welcome-back-coffee/
END:VEVENT
BEGIN:VEVENT
DTSTART;TZID=America/Vancouver:20130903T090000
DTEND;TZID=America/Vancouver:20130903T091000
DTSTAMP:20260419T201541
CREATED:20130627T160202Z
LAST-MODIFIED:20130627T160202Z
UID:1341-1378198800-1378199400@margaretjenkins.sd61.bc.ca
SUMMARY:Schools Open
DESCRIPTION:
URL:https://margaretjenkins.sd61.bc.ca/calendar-event/schools-open/
END:VEVENT
BEGIN:VEVENT
DTSTART;TZID=America/Vancouver:20130903T113000
DTEND;TZID=America/Vancouver:20130903T113500
DTSTAMP:20260419T201541
CREATED:20130627T160235Z
LAST-MODIFIED:20130627T160235Z
UID:1342-1378207800-1378208100@margaretjenkins.sd61.bc.ca
SUMMARY:Dismissal - 11:30
DESCRIPTION:
URL:https://margaretjenkins.sd61.bc.ca/calendar-event/dismissal-1130/
END:VEVENT
BEGIN:VEVENT
DTSTART;TZID=America/Vancouver:20130906T090000
DTEND;TZID=America/Vancouver:20130906T102500
DTSTAMP:20260419T201541
CREATED:20130627T160344Z
LAST-MODIFIED:20130627T160344Z
UID:1343-1378458000-1378463100@margaretjenkins.sd61.bc.ca
SUMMARY:Fire Drill
DESCRIPTION:
URL:https://margaretjenkins.sd61.bc.ca/calendar-event/fire-drill/
END:VEVENT
BEGIN:VEVENT
DTSTART;TZID=America/Vancouver:20130911T163000
DTEND;TZID=America/Vancouver:20130911T190000
DTSTAMP:20260419T201541
CREATED:20130627T160454Z
LAST-MODIFIED:20130627T160454Z
UID:1344-1378917000-1378926000@margaretjenkins.sd61.bc.ca
SUMMARY:Welcome Back BBQ
DESCRIPTION:
URL:https://margaretjenkins.sd61.bc.ca/calendar-event/welcome-back-bbq/
END:VEVENT
BEGIN:VEVENT
DTSTART;TZID=America/Vancouver:20130911T190000
DTEND;TZID=America/Vancouver:20130911T210000
DTSTAMP:20260419T201541
CREATED:20130627T160514Z
LAST-MODIFIED:20130627T160514Z
UID:1345-1378926000-1378933200@margaretjenkins.sd61.bc.ca
SUMMARY:Meet the Staff Night
DESCRIPTION:
URL:https://margaretjenkins.sd61.bc.ca/calendar-event/meet-the-staff-night/
END:VEVENT
BEGIN:VEVENT
DTSTART;VALUE=DATE:20130912
DTEND;VALUE=DATE:20130913
DTSTAMP:20260419T201541
CREATED:20130627T160533Z
LAST-MODIFIED:20130627T160533Z
UID:1346-1378944000-1379030399@margaretjenkins.sd61.bc.ca
SUMMARY:School Newsletter
DESCRIPTION:
URL:https://margaretjenkins.sd61.bc.ca/calendar-event/school-newsletter-11/
END:VEVENT
BEGIN:VEVENT
DTSTART;TZID=America/Vancouver:20130913T140000
DTEND;TZID=America/Vancouver:20130913T150000
DTSTAMP:20260419T201541
CREATED:20130627T160559Z
LAST-MODIFIED:20130627T160559Z
UID:1347-1379080800-1379084400@margaretjenkins.sd61.bc.ca
SUMMARY:Fire Drill
DESCRIPTION:
URL:https://margaretjenkins.sd61.bc.ca/calendar-event/fire-drill-2/
END:VEVENT
BEGIN:VEVENT
DTSTART;TZID=America/Vancouver:20130916T183000
DTEND;TZID=America/Vancouver:20130916T193000
DTSTAMP:20260419T201541
CREATED:20130913T214521Z
LAST-MODIFIED:20130913T214521Z
UID:1542-1379356200-1379359800@margaretjenkins.sd61.bc.ca
SUMMARY:Centennial Anniversary Planning Meeting - ÉMJS Library
DESCRIPTION:
URL:https://margaretjenkins.sd61.bc.ca/calendar-event/centennial-anniversary-planning-meeting-emjs-library/
END:VEVENT
BEGIN:VEVENT
DTSTART;TZID=America/Vancouver:20130918T080000
DTEND;TZID=America/Vancouver:20130918T083500
DTSTAMP:20260419T201541
CREATED:20130913T212047Z
LAST-MODIFIED:20130913T212047Z
UID:1517-1379491200-1379493300@margaretjenkins.sd61.bc.ca
SUMMARY:Cross Country Practice
DESCRIPTION:
URL:https://margaretjenkins.sd61.bc.ca/calendar-event/cross-country-practice-10/
END:VEVENT
BEGIN:VEVENT
DTSTART;TZID=America/Vancouver:20130918T150000
DTEND;TZID=America/Vancouver:20130918T163000
DTSTAMP:20260419T201541
CREATED:20130627T160619Z
LAST-MODIFIED:20130627T160619Z
UID:1348-1379516400-1379521800@margaretjenkins.sd61.bc.ca
SUMMARY:Staff Mtg
DESCRIPTION:
URL:https://margaretjenkins.sd61.bc.ca/calendar-event/staff-mtg/
END:VEVENT
BEGIN:VEVENT
DTSTART;TZID=America/Vancouver:20130919T130000
DTEND;TZID=America/Vancouver:20130919T140000
DTSTAMP:20260419T201541
CREATED:20130627T160636Z
LAST-MODIFIED:20130627T160636Z
UID:1349-1379595600-1379599200@margaretjenkins.sd61.bc.ca
SUMMARY:Assembly
DESCRIPTION:
URL:https://margaretjenkins.sd61.bc.ca/calendar-event/assembly-7/
END:VEVENT
BEGIN:VEVENT
DTSTART;TZID=America/Vancouver:20130920T080000
DTEND;TZID=America/Vancouver:20130920T083500
DTSTAMP:20260419T201541
CREATED:20130913T212149Z
LAST-MODIFIED:20130913T212149Z
UID:1518-1379664000-1379666100@margaretjenkins.sd61.bc.ca
SUMMARY:Cross Country Practice
DESCRIPTION:
URL:https://margaretjenkins.sd61.bc.ca/calendar-event/cross-country-practice-11/
END:VEVENT
BEGIN:VEVENT
DTSTART;VALUE=DATE:20130923
DTEND;VALUE=DATE:20130924
DTSTAMP:20260419T201541
CREATED:20130627T160700Z
LAST-MODIFIED:20130627T160700Z
UID:1350-1379894400-1379980799@margaretjenkins.sd61.bc.ca
SUMMARY:Pro-D Day
DESCRIPTION:No School for Students
URL:https://margaretjenkins.sd61.bc.ca/calendar-event/pro-d-day-3/
END:VEVENT
BEGIN:VEVENT
DTSTART;TZID=America/Vancouver:20130925T080000
DTEND;TZID=America/Vancouver:20130925T083500
DTSTAMP:20260419T201541
CREATED:20130913T212412Z
LAST-MODIFIED:20130913T212412Z
UID:1519-1380096000-1380098100@margaretjenkins.sd61.bc.ca
SUMMARY:Cross Country Practice
DESCRIPTION:
URL:https://margaretjenkins.sd61.bc.ca/calendar-event/cross-country-practice-12/
END:VEVENT
BEGIN:VEVENT
DTSTART;TZID=America/Vancouver:20130925T115000
DTEND;TZID=America/Vancouver:20130925T121000
DTSTAMP:20260419T201541
CREATED:20130916T215121Z
LAST-MODIFIED:20130916T215121Z
UID:1558-1380109800-1380111000@margaretjenkins.sd61.bc.ca
SUMMARY:Pizza/Sushi Day
DESCRIPTION:
URL:https://margaretjenkins.sd61.bc.ca/calendar-event/pizzasushi-day-24/
END:VEVENT
END:VCALENDAR