BEGIN:VCALENDAR
VERSION:2.0
PRODID:-//Margaret Jenkins Elementary - ECPv6.2.8.1//NONSGML v1.0//EN
CALSCALE:GREGORIAN
METHOD:PUBLISH
X-WR-CALNAME:Margaret Jenkins Elementary
X-ORIGINAL-URL:https://margaretjenkins.sd61.bc.ca
X-WR-CALDESC:Events for Margaret Jenkins Elementary
REFRESH-INTERVAL;VALUE=DURATION:PT1H
X-Robots-Tag:noindex
X-PUBLISHED-TTL:PT1H
BEGIN:VTIMEZONE
TZID:America/Vancouver
BEGIN:DAYLIGHT
TZOFFSETFROM:-0800
TZOFFSETTO:-0700
TZNAME:PDT
DTSTART:20130310T100000
END:DAYLIGHT
BEGIN:STANDARD
TZOFFSETFROM:-0700
TZOFFSETTO:-0800
TZNAME:PST
DTSTART:20131103T090000
END:STANDARD
END:VTIMEZONE
BEGIN:VEVENT
DTSTART;VALUE=DATE:20130403
DTEND;VALUE=DATE:20130404
DTSTAMP:20260420T195926
CREATED:20130607T215052Z
LAST-MODIFIED:20130619T173334Z
UID:1063-1364947200-1365033599@margaretjenkins.sd61.bc.ca
SUMMARY:Fieldtrip: Div. 11 – Oak Bay Fire Hall
DESCRIPTION:
URL:https://margaretjenkins.sd61.bc.ca/calendar-event/fieldtrip-div-11-oak-bay-fire-hall/
END:VEVENT
BEGIN:VEVENT
DTSTART;VALUE=DATE:20130402
DTEND;VALUE=DATE:20130403
DTSTAMP:20260420T195926
CREATED:20130607T215111Z
LAST-MODIFIED:20130619T173334Z
UID:1064-1364860800-1364947199@margaretjenkins.sd61.bc.ca
SUMMARY:School Newsletter
DESCRIPTION:
URL:https://margaretjenkins.sd61.bc.ca/calendar-event/school-newsletter-6/
END:VEVENT
BEGIN:VEVENT
DTSTART;VALUE=DATE:20130401
DTEND;VALUE=DATE:20130402
DTSTAMP:20260420T195926
CREATED:20130607T215125Z
LAST-MODIFIED:20130619T173334Z
UID:1065-1364774400-1364860799@margaretjenkins.sd61.bc.ca
SUMMARY:Easter Monday
DESCRIPTION:
URL:https://margaretjenkins.sd61.bc.ca/calendar-event/easter-monday/
END:VEVENT
BEGIN:VEVENT
DTSTART;VALUE=DATE:20130329
DTEND;VALUE=DATE:20130330
DTSTAMP:20260420T195926
CREATED:20130619T173249Z
LAST-MODIFIED:20130619T173334Z
UID:1331-1364515200-1364601599@margaretjenkins.sd61.bc.ca
SUMMARY:Good Friday
DESCRIPTION:
URL:https://margaretjenkins.sd61.bc.ca/calendar-event/good-friday/
END:VEVENT
BEGIN:VEVENT
DTSTART;TZID=America/Vancouver:20130328T190000
DTEND;TZID=America/Vancouver:20130328T210000
DTSTAMP:20260420T195926
CREATED:20130619T173236Z
LAST-MODIFIED:20130619T173334Z
UID:1330-1364497200-1364504400@margaretjenkins.sd61.bc.ca
SUMMARY:PAC Meeting
DESCRIPTION:
URL:https://margaretjenkins.sd61.bc.ca/calendar-event/pac-meeting-4/
END:VEVENT
BEGIN:VEVENT
DTSTART;TZID=America/Vancouver:20130328T150000
DTEND;TZID=America/Vancouver:20130328T160000
DTSTAMP:20260420T195926
CREATED:20130619T173158Z
LAST-MODIFIED:20130619T173334Z
UID:1328-1364482800-1364486400@margaretjenkins.sd61.bc.ca
SUMMARY:Grade 4/5 Girls and Boys Rugby Practice
DESCRIPTION:
URL:https://margaretjenkins.sd61.bc.ca/calendar-event/grade-45-girls-and-boys-rugby-practice-5/
LOCATION:On the field
END:VEVENT
BEGIN:VEVENT
DTSTART;TZID=America/Vancouver:20130328T130000
DTEND;TZID=America/Vancouver:20130328T133000
DTSTAMP:20260420T195926
CREATED:20130619T173126Z
LAST-MODIFIED:20130619T173334Z
UID:1327-1364475600-1364477400@margaretjenkins.sd61.bc.ca
SUMMARY:Assembly
DESCRIPTION:
URL:https://margaretjenkins.sd61.bc.ca/calendar-event/assembly-6/
END:VEVENT
BEGIN:VEVENT
DTSTART;TZID=America/Vancouver:20130327T150000
DTEND;TZID=America/Vancouver:20130327T150500
DTSTAMP:20260420T195926
CREATED:20130619T173101Z
LAST-MODIFIED:20130619T173334Z
UID:1326-1364396400-1364396700@margaretjenkins.sd61.bc.ca
SUMMARY:Deadline to order tickets for the Opera Tosca
DESCRIPTION:$10/student
URL:https://margaretjenkins.sd61.bc.ca/calendar-event/deadline-to-order-tickets-for-the-opera-tosca/
END:VEVENT
BEGIN:VEVENT
DTSTART;VALUE=DATE:20130327
DTEND;VALUE=DATE:20130328
DTSTAMP:20260420T195926
CREATED:20130619T173025Z
LAST-MODIFIED:20130619T173341Z
UID:1325-1364342400-1364428799@margaretjenkins.sd61.bc.ca
SUMMARY:Pizza/Sushi
DESCRIPTION:
URL:https://margaretjenkins.sd61.bc.ca/calendar-event/pizzasushi/
END:VEVENT
BEGIN:VEVENT
DTSTART;VALUE=DATE:20130327
DTEND;VALUE=DATE:20130328
DTSTAMP:20260420T195926
CREATED:20130619T173003Z
LAST-MODIFIED:20130619T173334Z
UID:1324-1364342400-1364428799@margaretjenkins.sd61.bc.ca
SUMMARY:Fieldtrip: Div. 2 - Q Radio Station
DESCRIPTION:
URL:https://margaretjenkins.sd61.bc.ca/calendar-event/fieldtrip-div-2-q-radio-station/
END:VEVENT
BEGIN:VEVENT
DTSTART;TZID=America/Vancouver:20130326T110000
DTEND;TZID=America/Vancouver:20130326T120000
DTSTAMP:20260420T195926
CREATED:20130619T172935Z
LAST-MODIFIED:20130619T173341Z
UID:1323-1364295600-1364299200@margaretjenkins.sd61.bc.ca
SUMMARY:Aché Brasil - Performace
DESCRIPTION:
URL:https://margaretjenkins.sd61.bc.ca/calendar-event/ache-brasil-performace/
END:VEVENT
BEGIN:VEVENT
DTSTART;TZID=America/Vancouver:20130325T150000
DTEND;TZID=America/Vancouver:20130325T160000
DTSTAMP:20260420T195926
CREATED:20130619T172854Z
LAST-MODIFIED:20130619T173341Z
UID:1321-1364223600-1364227200@margaretjenkins.sd61.bc.ca
SUMMARY:Sportball
DESCRIPTION:
URL:https://margaretjenkins.sd61.bc.ca/calendar-event/sportball-17/
LOCATION:Gym
END:VEVENT
BEGIN:VEVENT
DTSTART;TZID=America/Vancouver:20130325T121000
DTEND;TZID=America/Vancouver:20130325T125000
DTSTAMP:20260420T195926
CREATED:20130619T172835Z
LAST-MODIFIED:20130619T173341Z
UID:1319-1364213400-1364215800@margaretjenkins.sd61.bc.ca
SUMMARY:Grade 3-5 Choir Practice
DESCRIPTION:
URL:https://margaretjenkins.sd61.bc.ca/calendar-event/grade-3-5-choir-practice-3/
LOCATION:Music Room
END:VEVENT
BEGIN:VEVENT
DTSTART;VALUE=DATE:20130325
DTEND;VALUE=DATE:20130326
DTSTAMP:20260420T195926
CREATED:20130619T172804Z
LAST-MODIFIED:20130619T173341Z
UID:1318-1364169600-1364255999@margaretjenkins.sd61.bc.ca
SUMMARY:Schools re-open after spring vacation
DESCRIPTION:
URL:https://margaretjenkins.sd61.bc.ca/calendar-event/schools-re-open-after-spring-vacation/
END:VEVENT
BEGIN:VEVENT
DTSTART;VALUE=DATE:20130322
DTEND;VALUE=DATE:20130323
DTSTAMP:20260420T195926
CREATED:20130619T172719Z
LAST-MODIFIED:20130619T173342Z
UID:1317-1363910400-1363996799@margaretjenkins.sd61.bc.ca
SUMMARY:Deadline to register for the TC 10k and 1.5k Kids Runs
DESCRIPTION:ÉMJS is registered under Island Farms School Teams–Margaret Jenkins Jaguars. The 10k and 1.5k Kids Run will be taking place on Sunday\, April 28th
URL:https://margaretjenkins.sd61.bc.ca/calendar-event/deadline-to-register-for-the-tc-10k-and-1-5k-kids-runs/
END:VEVENT
BEGIN:VEVENT
DTSTART;TZID=America/Vancouver:20130311T080000
DTEND;TZID=America/Vancouver:20130322T150000
DTSTAMP:20260420T195926
CREATED:20130619T172535Z
LAST-MODIFIED:20130619T173342Z
UID:1316-1362988800-1363964400@margaretjenkins.sd61.bc.ca
SUMMARY:Spring Vacation
DESCRIPTION:
URL:https://margaretjenkins.sd61.bc.ca/calendar-event/spring-vacation/
END:VEVENT
BEGIN:VEVENT
DTSTART;TZID=America/Vancouver:20130308T153000
DTEND;TZID=America/Vancouver:20130308T163000
DTSTAMP:20260420T195926
CREATED:20130619T165553Z
LAST-MODIFIED:20130619T173342Z
UID:1314-1362756600-1362760200@margaretjenkins.sd61.bc.ca
SUMMARY:Swim Club (Last one for the year)
DESCRIPTION:
URL:https://margaretjenkins.sd61.bc.ca/calendar-event/swim-club-last-one-for-the-year/
LOCATION:Crystal Pool
END:VEVENT
BEGIN:VEVENT
DTSTART;TZID=America/Vancouver:20130308T121000
DTEND;TZID=America/Vancouver:20130308T124500
DTSTAMP:20260420T195926
CREATED:20130619T165522Z
LAST-MODIFIED:20130619T173342Z
UID:1312-1362744600-1362746700@margaretjenkins.sd61.bc.ca
SUMMARY:Grade 1 - Mini Basketball
DESCRIPTION:
URL:https://margaretjenkins.sd61.bc.ca/calendar-event/grade-1-mini-basketball-5/
LOCATION:Gym
END:VEVENT
BEGIN:VEVENT
DTSTART;VALUE=DATE:20130308
DTEND;VALUE=DATE:20130309
DTSTAMP:20260420T195926
CREATED:20130619T165452Z
LAST-MODIFIED:20130619T173342Z
UID:1311-1362700800-1362787199@margaretjenkins.sd61.bc.ca
SUMMARY:Last Day of School Before Spring Vacation
DESCRIPTION:
URL:https://margaretjenkins.sd61.bc.ca/calendar-event/last-day-of-school-before-spring-vacation/
END:VEVENT
BEGIN:VEVENT
DTSTART;VALUE=DATE:20130308
DTEND;VALUE=DATE:20130309
DTSTAMP:20260420T195926
CREATED:20130619T165428Z
LAST-MODIFIED:20130619T173342Z
UID:1310-1362700800-1362787199@margaretjenkins.sd61.bc.ca
SUMMARY:Report Card Go Home
DESCRIPTION:
URL:https://margaretjenkins.sd61.bc.ca/calendar-event/report-card-go-home/
END:VEVENT
BEGIN:VEVENT
DTSTART;TZID=America/Vancouver:20130307T150000
DTEND;TZID=America/Vancouver:20130307T160000
DTSTAMP:20260420T195926
CREATED:20130619T165412Z
LAST-MODIFIED:20130619T173342Z
UID:1308-1362668400-1362672000@margaretjenkins.sd61.bc.ca
SUMMARY:Grade 4/5 Girls and Boys Rugby Practice
DESCRIPTION:MUST have a mouth guard.
URL:https://margaretjenkins.sd61.bc.ca/calendar-event/grade-45-girls-and-boys-rugby-practice-4/
LOCATION:On the field
END:VEVENT
BEGIN:VEVENT
DTSTART;TZID=America/Vancouver:20130307T121000
DTEND;TZID=America/Vancouver:20130307T125000
DTSTAMP:20260420T195926
CREATED:20130619T165335Z
LAST-MODIFIED:20130619T173342Z
UID:1306-1362658200-1362660600@margaretjenkins.sd61.bc.ca
SUMMARY:Grade 4/5 Boys Basketball Practice
DESCRIPTION:
URL:https://margaretjenkins.sd61.bc.ca/calendar-event/grade-45-boys-basketball-practice-9/
LOCATION:Gym
END:VEVENT
BEGIN:VEVENT
DTSTART;TZID=America/Vancouver:20130306T121000
DTEND;TZID=America/Vancouver:20130306T125000
DTSTAMP:20260420T195926
CREATED:20130619T165232Z
LAST-MODIFIED:20130619T173342Z
UID:1304-1362571800-1362574200@margaretjenkins.sd61.bc.ca
SUMMARY:Grade 4/5 Girls Basketbal Practice
DESCRIPTION:
URL:https://margaretjenkins.sd61.bc.ca/calendar-event/grade-45-girls-basketbal-practice/
LOCATION:Gym
END:VEVENT
BEGIN:VEVENT
DTSTART;VALUE=DATE:20130306
DTEND;VALUE=DATE:20130307
DTSTAMP:20260420T195926
CREATED:20130619T165202Z
LAST-MODIFIED:20130619T173342Z
UID:1303-1362528000-1362614399@margaretjenkins.sd61.bc.ca
SUMMARY:Pizza/Sushi Day
DESCRIPTION:
URL:https://margaretjenkins.sd61.bc.ca/calendar-event/pizzasushi-day-8/
END:VEVENT
BEGIN:VEVENT
DTSTART;TZID=America/Vancouver:20130305T183000
DTEND;TZID=America/Vancouver:20130305T203000
DTSTAMP:20260420T195926
CREATED:20130619T165145Z
LAST-MODIFIED:20130619T173342Z
UID:1301-1362508200-1362515400@margaretjenkins.sd61.bc.ca
SUMMARY:Math Mania
DESCRIPTION:
URL:https://margaretjenkins.sd61.bc.ca/calendar-event/math-mania/
LOCATION:Gym
END:VEVENT
BEGIN:VEVENT
DTSTART;TZID=America/Vancouver:20130305T153000
DTEND;TZID=America/Vancouver:20130305T170000
DTSTAMP:20260420T195926
CREATED:20130619T165104Z
LAST-MODIFIED:20130619T173342Z
UID:1299-1362497400-1362502800@margaretjenkins.sd61.bc.ca
SUMMARY:Grade 3 to 5 Girls Softball Practice
DESCRIPTION:
URL:https://margaretjenkins.sd61.bc.ca/calendar-event/grade-3-to-5-girls-softball-practice-3/
LOCATION:Gym
END:VEVENT
BEGIN:VEVENT
DTSTART;TZID=America/Vancouver:20130305T150000
DTEND;TZID=America/Vancouver:20130305T160000
DTSTAMP:20260420T195926
CREATED:20130619T165033Z
LAST-MODIFIED:20130619T173342Z
UID:1297-1362495600-1362499200@margaretjenkins.sd61.bc.ca
SUMMARY:Grade 4/5 Girls and Boys Rugby Practice
DESCRIPTION:MUST have a mouth guard.
URL:https://margaretjenkins.sd61.bc.ca/calendar-event/grade-45-girls-and-boys-rugby-practice-3/
LOCATION:On the field
END:VEVENT
BEGIN:VEVENT
DTSTART;TZID=America/Vancouver:20130305T121000
DTEND;TZID=America/Vancouver:20130305T125000
DTSTAMP:20260420T195926
CREATED:20130619T164954Z
LAST-MODIFIED:20130619T173342Z
UID:1295-1362485400-1362487800@margaretjenkins.sd61.bc.ca
SUMMARY:Grade 4/5 Girls Basketball Practice
DESCRIPTION:
URL:https://margaretjenkins.sd61.bc.ca/calendar-event/grade-45-girls-basketball-practice-13/
LOCATION:Gym
END:VEVENT
BEGIN:VEVENT
DTSTART;TZID=America/Vancouver:20130305T084500
DTEND;TZID=America/Vancouver:20130305T110000
DTSTAMP:20260420T195926
CREATED:20130619T164915Z
LAST-MODIFIED:20130619T173342Z
UID:1293-1362473100-1362481200@margaretjenkins.sd61.bc.ca
SUMMARY:Grade Choir Competition - VIctoria Sings @ UVic
DESCRIPTION:Travel by bus.
URL:https://margaretjenkins.sd61.bc.ca/calendar-event/grade-choir-competition-victoria-sings-uvic/
LOCATION:UVic
END:VEVENT
BEGIN:VEVENT
DTSTART;TZID=America/Vancouver:20130304T150000
DTEND;TZID=America/Vancouver:20130304T160000
DTSTAMP:20260420T195926
CREATED:20130619T164619Z
LAST-MODIFIED:20130619T173355Z
UID:1291-1362409200-1362412800@margaretjenkins.sd61.bc.ca
SUMMARY:Sportball
DESCRIPTION:Register at www.sportball.ca
URL:https://margaretjenkins.sd61.bc.ca/calendar-event/sportball-16/
LOCATION:Gym
END:VEVENT
END:VCALENDAR