BEGIN:VCALENDAR
VERSION:2.0
PRODID:-//Margaret Jenkins Elementary - ECPv6.2.8.1//NONSGML v1.0//EN
CALSCALE:GREGORIAN
METHOD:PUBLISH
X-WR-CALNAME:Margaret Jenkins Elementary
X-ORIGINAL-URL:https://margaretjenkins.sd61.bc.ca
X-WR-CALDESC:Events for Margaret Jenkins Elementary
REFRESH-INTERVAL;VALUE=DURATION:PT1H
X-Robots-Tag:noindex
X-PUBLISHED-TTL:PT1H
BEGIN:VTIMEZONE
TZID:America/Vancouver
BEGIN:DAYLIGHT
TZOFFSETFROM:-0800
TZOFFSETTO:-0700
TZNAME:PDT
DTSTART:20130310T100000
END:DAYLIGHT
BEGIN:STANDARD
TZOFFSETFROM:-0700
TZOFFSETTO:-0800
TZNAME:PST
DTSTART:20131103T090000
END:STANDARD
END:VTIMEZONE
BEGIN:VEVENT
DTSTART;TZID=America/Vancouver:20130501T121000
DTEND;TZID=America/Vancouver:20130501T130000
DTSTAMP:20260420T192013
CREATED:20130508T185938Z
LAST-MODIFIED:20130603T162837Z
UID:616-1367410200-1367413200@margaretjenkins.sd61.bc.ca
SUMMARY:Talent Show Auditions – Grades 4/5
DESCRIPTION:
URL:https://margaretjenkins.sd61.bc.ca/calendar-event/talent-show-auditions-grades-45/
END:VEVENT
BEGIN:VEVENT
DTSTART;TZID=America/Vancouver:20130501T080000
DTEND;TZID=America/Vancouver:20130501T085000
DTSTAMP:20260420T192013
CREATED:20130508T185900Z
LAST-MODIFIED:20130603T162837Z
UID:615-1367395200-1367398200@margaretjenkins.sd61.bc.ca
SUMMARY:Cross Country Practice
DESCRIPTION:
URL:https://margaretjenkins.sd61.bc.ca/calendar-event/cross-country-practice/
END:VEVENT
BEGIN:VEVENT
DTSTART;TZID=America/Vancouver:20130430T150000
DTEND;TZID=America/Vancouver:20130430T160000
DTSTAMP:20260420T192013
CREATED:20130607T201919Z
LAST-MODIFIED:20130607T215211Z
UID:962-1367334000-1367337600@margaretjenkins.sd61.bc.ca
SUMMARY:Gr. 4/5 Girls’ & Boys’ Rugby Practice
DESCRIPTION:
URL:https://margaretjenkins.sd61.bc.ca/calendar-event/gr-45-girls-boys-rugby-practice-4/
LOCATION:On the field
END:VEVENT
BEGIN:VEVENT
DTSTART;TZID=America/Vancouver:20130430T121500
DTEND;TZID=America/Vancouver:20130430T130000
DTSTAMP:20260420T192013
CREATED:20130607T201837Z
LAST-MODIFIED:20130607T215211Z
UID:961-1367324100-1367326800@margaretjenkins.sd61.bc.ca
SUMMARY:Track Practice – Grade 3s
DESCRIPTION:
URL:https://margaretjenkins.sd61.bc.ca/calendar-event/track-practice-grade-3s-6/
END:VEVENT
BEGIN:VEVENT
DTSTART;TZID=America/Vancouver:20130430T120000
DTEND;TZID=America/Vancouver:20130430T131000
DTSTAMP:20260420T192013
CREATED:20130607T201755Z
LAST-MODIFIED:20130607T215211Z
UID:960-1367323200-1367327400@margaretjenkins.sd61.bc.ca
SUMMARY:Talent Show Auditions – Grade 2/3
DESCRIPTION:
URL:https://margaretjenkins.sd61.bc.ca/calendar-event/talent-show-auditions-grade-23/
END:VEVENT
BEGIN:VEVENT
DTSTART;TZID=America/Vancouver:20130430T080000
DTEND;TZID=America/Vancouver:20130430T085000
DTSTAMP:20260420T192013
CREATED:20130607T201714Z
LAST-MODIFIED:20130607T215211Z
UID:959-1367308800-1367311800@margaretjenkins.sd61.bc.ca
SUMMARY:Track Practice – 800 metre
DESCRIPTION:
URL:https://margaretjenkins.sd61.bc.ca/calendar-event/track-practice-800-metre-5/
END:VEVENT
BEGIN:VEVENT
DTSTART;VALUE=DATE:20130430
DTEND;VALUE=DATE:20130501
DTSTAMP:20260420T192013
CREATED:20130607T201632Z
LAST-MODIFIED:20130607T215211Z
UID:958-1367280000-1367366399@margaretjenkins.sd61.bc.ca
SUMMARY:Fieldtrip: Div. 17 – Elk/Beaver Lake
DESCRIPTION:
URL:https://margaretjenkins.sd61.bc.ca/calendar-event/fieldtrip-div-17-elkbeaver-lake/
END:VEVENT
BEGIN:VEVENT
DTSTART;TZID=America/Vancouver:20130429T150000
DTEND;TZID=America/Vancouver:20130429T160000
DTSTAMP:20260420T192013
CREATED:20130607T202918Z
LAST-MODIFIED:20130607T215211Z
UID:974-1367247600-1367251200@margaretjenkins.sd61.bc.ca
SUMMARY:Sportball
DESCRIPTION:
URL:https://margaretjenkins.sd61.bc.ca/calendar-event/sportball-7/
END:VEVENT
BEGIN:VEVENT
DTSTART;TZID=America/Vancouver:20130429T131500
DTEND;TZID=America/Vancouver:20130429T141500
DTSTAMP:20260420T192013
CREATED:20130607T202845Z
LAST-MODIFIED:20130607T215211Z
UID:973-1367241300-1367244900@margaretjenkins.sd61.bc.ca
SUMMARY:Div.16 - Fairfield Artist Tour – Galen Davison
DESCRIPTION:
URL:https://margaretjenkins.sd61.bc.ca/calendar-event/div-16-fairfield-artist-tour-galen-davison/
END:VEVENT
BEGIN:VEVENT
DTSTART;TZID=America/Vancouver:20130429T121000
DTEND;TZID=America/Vancouver:20130429T125000
DTSTAMP:20260420T192013
CREATED:20130607T202808Z
LAST-MODIFIED:20130607T215211Z
UID:972-1367237400-1367239800@margaretjenkins.sd61.bc.ca
SUMMARY:Gr. 3 – 5 Choir Practice
DESCRIPTION:
URL:https://margaretjenkins.sd61.bc.ca/calendar-event/gr-3-5-choir-practice-2/
END:VEVENT
BEGIN:VEVENT
DTSTART;TZID=America/Vancouver:20130429T121000
DTEND;TZID=America/Vancouver:20130429T131000
DTSTAMP:20260420T192013
CREATED:20130607T202730Z
LAST-MODIFIED:20130607T215211Z
UID:971-1367237400-1367241000@margaretjenkins.sd61.bc.ca
SUMMARY:Talent Show Auditions – K/1
DESCRIPTION:
URL:https://margaretjenkins.sd61.bc.ca/calendar-event/talent-show-auditions-k1/
END:VEVENT
BEGIN:VEVENT
DTSTART;TZID=America/Vancouver:20130429T104500
DTEND;TZID=America/Vancouver:20130429T234500
DTSTAMP:20260420T192013
CREATED:20130607T202628Z
LAST-MODIFIED:20130607T215211Z
UID:970-1367232300-1367279100@margaretjenkins.sd61.bc.ca
SUMMARY:Div. 6 - Fairfield Artist Tour – Sam Dickie
DESCRIPTION:
URL:https://margaretjenkins.sd61.bc.ca/calendar-event/div-6-fairfield-artist-tour-sam-dickie/
END:VEVENT
BEGIN:VEVENT
DTSTART;TZID=America/Vancouver:20130429T104500
DTEND;TZID=America/Vancouver:20130429T234500
DTSTAMP:20260420T192013
CREATED:20130607T202545Z
LAST-MODIFIED:20130607T215211Z
UID:969-1367232300-1367279100@margaretjenkins.sd61.bc.ca
SUMMARY:Div. 5 - Fairfield Artist Tour – Tim Gosley
DESCRIPTION:
URL:https://margaretjenkins.sd61.bc.ca/calendar-event/div-5-fairfield-artist-tour-tim-gosley/
END:VEVENT
BEGIN:VEVENT
DTSTART;TZID=America/Vancouver:20130429T104500
DTEND;TZID=America/Vancouver:20130429T114500
DTSTAMP:20260420T192013
CREATED:20130607T202508Z
LAST-MODIFIED:20130607T215211Z
UID:968-1367232300-1367235900@margaretjenkins.sd61.bc.ca
SUMMARY:Div. 4 - Fairfield Artist Tour – Galen Davison
DESCRIPTION:
URL:https://margaretjenkins.sd61.bc.ca/calendar-event/div-4-fairfield-artist-tour-galen-davison/
END:VEVENT
BEGIN:VEVENT
DTSTART;TZID=America/Vancouver:20130429T091500
DTEND;TZID=America/Vancouver:20130429T221500
DTSTAMP:20260420T192013
CREATED:20130607T202252Z
LAST-MODIFIED:20130607T215211Z
UID:967-1367226900-1367273700@margaretjenkins.sd61.bc.ca
SUMMARY:Div. 9 - Fairfield Artist Tour – Tim Gosley
DESCRIPTION:
URL:https://margaretjenkins.sd61.bc.ca/calendar-event/div-9-fairfield-artist-tour-tim-gosley/
END:VEVENT
BEGIN:VEVENT
DTSTART;TZID=America/Vancouver:20130429T091500
DTEND;TZID=America/Vancouver:20130429T091500
DTSTAMP:20260420T192014
CREATED:20130607T202200Z
LAST-MODIFIED:20130607T215211Z
UID:966-1367226900-1367226900@margaretjenkins.sd61.bc.ca
SUMMARY:Div. 7 - Fairfield Artist Tour – Sam Dickie
DESCRIPTION:
URL:https://margaretjenkins.sd61.bc.ca/calendar-event/div-7-fairfield-artist-tour-sam-dickie/
END:VEVENT
BEGIN:VEVENT
DTSTART;TZID=America/Vancouver:20130429T091500
DTEND;TZID=America/Vancouver:20130429T101500
DTSTAMP:20260420T192014
CREATED:20130607T202121Z
LAST-MODIFIED:20130607T215211Z
UID:965-1367226900-1367230500@margaretjenkins.sd61.bc.ca
SUMMARY:Div. 13 - Fairfield Artist Tour – G . Davison
DESCRIPTION:
URL:https://margaretjenkins.sd61.bc.ca/calendar-event/div-13-fairfield-artist-tour-g-davison-2/
END:VEVENT
BEGIN:VEVENT
DTSTART;VALUE=DATE:20130429
DTEND;VALUE=DATE:20130430
DTSTAMP:20260420T192014
CREATED:20130607T202032Z
LAST-MODIFIED:20130607T215211Z
UID:964-1367193600-1367279999@margaretjenkins.sd61.bc.ca
SUMMARY:Fieldtrip: Div. 11 – Oak Bay Library
DESCRIPTION:
URL:https://margaretjenkins.sd61.bc.ca/calendar-event/fieldtrip-div-11-oak-bay-library-2/
END:VEVENT
BEGIN:VEVENT
DTSTART;TZID=America/Vancouver:20130426T130000
DTEND;TZID=America/Vancouver:20130426T140000
DTSTAMP:20260420T192014
CREATED:20130607T203237Z
LAST-MODIFIED:20130607T215211Z
UID:980-1366981200-1366984800@margaretjenkins.sd61.bc.ca
SUMMARY:Jump Rope for Heart
DESCRIPTION:
URL:https://margaretjenkins.sd61.bc.ca/calendar-event/jump-rope-for-heart/
END:VEVENT
BEGIN:VEVENT
DTSTART;TZID=America/Vancouver:20130426T121000
DTEND;TZID=America/Vancouver:20130426T131000
DTSTAMP:20260420T192014
CREATED:20130607T203153Z
LAST-MODIFIED:20130607T215211Z
UID:978-1366978200-1366981800@margaretjenkins.sd61.bc.ca
SUMMARY:Chess Club
DESCRIPTION:
URL:https://margaretjenkins.sd61.bc.ca/calendar-event/chess-club-6/
LOCATION:Library
END:VEVENT
BEGIN:VEVENT
DTSTART;TZID=America/Vancouver:20130426T103000
DTEND;TZID=America/Vancouver:20130426T120000
DTSTAMP:20260420T192014
CREATED:20130607T203104Z
LAST-MODIFIED:20130607T215211Z
UID:977-1366972200-1366977600@margaretjenkins.sd61.bc.ca
SUMMARY:Div. 18 - Artist is Residence with Tim Gosley - Puppeteer
DESCRIPTION:
URL:https://margaretjenkins.sd61.bc.ca/calendar-event/div-18-artist-is-residence-with-tim-gosley-puppeteer/
END:VEVENT
BEGIN:VEVENT
DTSTART;TZID=America/Vancouver:20130426T084500
DTEND;TZID=America/Vancouver:20130426T220500
DTSTAMP:20260420T192014
CREATED:20130607T203028Z
LAST-MODIFIED:20130607T215211Z
UID:976-1366965900-1367013900@margaretjenkins.sd61.bc.ca
SUMMARY:Div. 6 – Artist is Residence with Tim Gosley – Puppeteer
DESCRIPTION:
URL:https://margaretjenkins.sd61.bc.ca/calendar-event/div-6-artist-is-residence-with-tim-gosley-puppeteer/
END:VEVENT
BEGIN:VEVENT
DTSTART;TZID=America/Vancouver:20130426T080000
DTEND;TZID=America/Vancouver:20130426T085000
DTSTAMP:20260420T192014
CREATED:20130607T202952Z
LAST-MODIFIED:20130607T215221Z
UID:975-1366963200-1366966200@margaretjenkins.sd61.bc.ca
SUMMARY:Cross Country Practice
DESCRIPTION:
URL:https://margaretjenkins.sd61.bc.ca/calendar-event/cross-country-practice-3/
END:VEVENT
BEGIN:VEVENT
DTSTART;TZID=America/Vancouver:20130425T190000
DTEND;TZID=America/Vancouver:20130425T210000
DTSTAMP:20260420T192014
CREATED:20130607T203855Z
LAST-MODIFIED:20130607T215221Z
UID:987-1366916400-1366923600@margaretjenkins.sd61.bc.ca
SUMMARY:PAC Meeting
DESCRIPTION:
URL:https://margaretjenkins.sd61.bc.ca/calendar-event/pac-meeting/
END:VEVENT
BEGIN:VEVENT
DTSTART;TZID=America/Vancouver:20130425T150000
DTEND;TZID=America/Vancouver:20130425T160000
DTSTAMP:20260420T192014
CREATED:20130607T203827Z
LAST-MODIFIED:20130607T215221Z
UID:985-1366902000-1366905600@margaretjenkins.sd61.bc.ca
SUMMARY:Gr. 4/5 Girls’ & Boys’ Rugby Practice
DESCRIPTION:
URL:https://margaretjenkins.sd61.bc.ca/calendar-event/gr-45-girls-boys-rugby-practice-5/
LOCATION:On the field
END:VEVENT
BEGIN:VEVENT
DTSTART;VALUE=DATE:20130425
DTEND;VALUE=DATE:20130426
DTSTAMP:20260420T192014
CREATED:20130607T203713Z
LAST-MODIFIED:20130607T215221Z
UID:984-1366848000-1366934399@margaretjenkins.sd61.bc.ca
SUMMARY:School Newsletter
DESCRIPTION:
URL:https://margaretjenkins.sd61.bc.ca/calendar-event/school-newsletter-4/
END:VEVENT
BEGIN:VEVENT
DTSTART;VALUE=DATE:20130425
DTEND;VALUE=DATE:20130426
DTSTAMP:20260420T192014
CREATED:20130607T203649Z
LAST-MODIFIED:20130607T215221Z
UID:983-1366848000-1366934399@margaretjenkins.sd61.bc.ca
SUMMARY:Fieldtrip: Div. 8 – Uvic
DESCRIPTION:
URL:https://margaretjenkins.sd61.bc.ca/calendar-event/fieldtrip-div-8-uvic/
END:VEVENT
BEGIN:VEVENT
DTSTART;VALUE=DATE:20130425
DTEND;VALUE=DATE:20130426
DTSTAMP:20260420T192014
CREATED:20130607T203325Z
LAST-MODIFIED:20130607T215221Z
UID:982-1366848000-1366934399@margaretjenkins.sd61.bc.ca
SUMMARY:Fieldtrip: Div. 12 – Marigold Nursery
DESCRIPTION:
URL:https://margaretjenkins.sd61.bc.ca/calendar-event/fieldtrip-div-12-marigold-nursery/
END:VEVENT
BEGIN:VEVENT
DTSTART;VALUE=DATE:20130425
DTEND;VALUE=DATE:20130426
DTSTAMP:20260420T192014
CREATED:20130607T203305Z
LAST-MODIFIED:20130607T215221Z
UID:981-1366848000-1366934399@margaretjenkins.sd61.bc.ca
SUMMARY:Fieldtrip: Div. 10 – Hydroponic Farm\, Nth Saanich
DESCRIPTION:
URL:https://margaretjenkins.sd61.bc.ca/calendar-event/fieldtrip-div-10-hydroponic-farm-nth-saanich/
END:VEVENT
BEGIN:VEVENT
DTSTART;TZID=America/Vancouver:20130424T125000
DTEND;TZID=America/Vancouver:20130424T145000
DTSTAMP:20260420T192014
CREATED:20130607T204346Z
LAST-MODIFIED:20130607T215221Z
UID:995-1366807800-1366815000@margaretjenkins.sd61.bc.ca
SUMMARY:Div. 9 – Story Studio Workshop
DESCRIPTION:
URL:https://margaretjenkins.sd61.bc.ca/calendar-event/div-9-story-studio-workshop/
END:VEVENT
END:VCALENDAR