BEGIN:VCALENDAR
VERSION:2.0
PRODID:-//Margaret Jenkins Elementary - ECPv6.2.8.1//NONSGML v1.0//EN
CALSCALE:GREGORIAN
METHOD:PUBLISH
X-WR-CALNAME:Margaret Jenkins Elementary
X-ORIGINAL-URL:https://margaretjenkins.sd61.bc.ca
X-WR-CALDESC:Events for Margaret Jenkins Elementary
REFRESH-INTERVAL;VALUE=DURATION:PT1H
X-Robots-Tag:noindex
X-PUBLISHED-TTL:PT1H
BEGIN:VTIMEZONE
TZID:America/Vancouver
BEGIN:DAYLIGHT
TZOFFSETFROM:-0800
TZOFFSETTO:-0700
TZNAME:PDT
DTSTART:20130310T100000
END:DAYLIGHT
BEGIN:STANDARD
TZOFFSETFROM:-0700
TZOFFSETTO:-0800
TZNAME:PST
DTSTART:20131103T090000
END:STANDARD
END:VTIMEZONE
BEGIN:VEVENT
DTSTART;TZID=America/Vancouver:20130307T150000
DTEND;TZID=America/Vancouver:20130307T160000
DTSTAMP:20260420T214954
CREATED:20130619T165412Z
LAST-MODIFIED:20130619T173342Z
UID:1308-1362668400-1362672000@margaretjenkins.sd61.bc.ca
SUMMARY:Grade 4/5 Girls and Boys Rugby Practice
DESCRIPTION:MUST have a mouth guard.
URL:https://margaretjenkins.sd61.bc.ca/calendar-event/grade-45-girls-and-boys-rugby-practice-4/
LOCATION:On the field
END:VEVENT
BEGIN:VEVENT
DTSTART;TZID=America/Vancouver:20130307T121000
DTEND;TZID=America/Vancouver:20130307T125000
DTSTAMP:20260420T214954
CREATED:20130619T165335Z
LAST-MODIFIED:20130619T173342Z
UID:1306-1362658200-1362660600@margaretjenkins.sd61.bc.ca
SUMMARY:Grade 4/5 Boys Basketball Practice
DESCRIPTION:
URL:https://margaretjenkins.sd61.bc.ca/calendar-event/grade-45-boys-basketball-practice-9/
LOCATION:Gym
END:VEVENT
BEGIN:VEVENT
DTSTART;TZID=America/Vancouver:20130306T121000
DTEND;TZID=America/Vancouver:20130306T125000
DTSTAMP:20260420T214954
CREATED:20130619T165232Z
LAST-MODIFIED:20130619T173342Z
UID:1304-1362571800-1362574200@margaretjenkins.sd61.bc.ca
SUMMARY:Grade 4/5 Girls Basketbal Practice
DESCRIPTION:
URL:https://margaretjenkins.sd61.bc.ca/calendar-event/grade-45-girls-basketbal-practice/
LOCATION:Gym
END:VEVENT
BEGIN:VEVENT
DTSTART;VALUE=DATE:20130306
DTEND;VALUE=DATE:20130307
DTSTAMP:20260420T214954
CREATED:20130619T165202Z
LAST-MODIFIED:20130619T173342Z
UID:1303-1362528000-1362614399@margaretjenkins.sd61.bc.ca
SUMMARY:Pizza/Sushi Day
DESCRIPTION:
URL:https://margaretjenkins.sd61.bc.ca/calendar-event/pizzasushi-day-8/
END:VEVENT
BEGIN:VEVENT
DTSTART;TZID=America/Vancouver:20130305T183000
DTEND;TZID=America/Vancouver:20130305T203000
DTSTAMP:20260420T214954
CREATED:20130619T165145Z
LAST-MODIFIED:20130619T173342Z
UID:1301-1362508200-1362515400@margaretjenkins.sd61.bc.ca
SUMMARY:Math Mania
DESCRIPTION:
URL:https://margaretjenkins.sd61.bc.ca/calendar-event/math-mania/
LOCATION:Gym
END:VEVENT
BEGIN:VEVENT
DTSTART;TZID=America/Vancouver:20130305T153000
DTEND;TZID=America/Vancouver:20130305T170000
DTSTAMP:20260420T214954
CREATED:20130619T165104Z
LAST-MODIFIED:20130619T173342Z
UID:1299-1362497400-1362502800@margaretjenkins.sd61.bc.ca
SUMMARY:Grade 3 to 5 Girls Softball Practice
DESCRIPTION:
URL:https://margaretjenkins.sd61.bc.ca/calendar-event/grade-3-to-5-girls-softball-practice-3/
LOCATION:Gym
END:VEVENT
BEGIN:VEVENT
DTSTART;TZID=America/Vancouver:20130305T150000
DTEND;TZID=America/Vancouver:20130305T160000
DTSTAMP:20260420T214954
CREATED:20130619T165033Z
LAST-MODIFIED:20130619T173342Z
UID:1297-1362495600-1362499200@margaretjenkins.sd61.bc.ca
SUMMARY:Grade 4/5 Girls and Boys Rugby Practice
DESCRIPTION:MUST have a mouth guard.
URL:https://margaretjenkins.sd61.bc.ca/calendar-event/grade-45-girls-and-boys-rugby-practice-3/
LOCATION:On the field
END:VEVENT
BEGIN:VEVENT
DTSTART;TZID=America/Vancouver:20130305T121000
DTEND;TZID=America/Vancouver:20130305T125000
DTSTAMP:20260420T214954
CREATED:20130619T164954Z
LAST-MODIFIED:20130619T173342Z
UID:1295-1362485400-1362487800@margaretjenkins.sd61.bc.ca
SUMMARY:Grade 4/5 Girls Basketball Practice
DESCRIPTION:
URL:https://margaretjenkins.sd61.bc.ca/calendar-event/grade-45-girls-basketball-practice-13/
LOCATION:Gym
END:VEVENT
BEGIN:VEVENT
DTSTART;TZID=America/Vancouver:20130305T084500
DTEND;TZID=America/Vancouver:20130305T110000
DTSTAMP:20260420T214954
CREATED:20130619T164915Z
LAST-MODIFIED:20130619T173342Z
UID:1293-1362473100-1362481200@margaretjenkins.sd61.bc.ca
SUMMARY:Grade Choir Competition - VIctoria Sings @ UVic
DESCRIPTION:Travel by bus.
URL:https://margaretjenkins.sd61.bc.ca/calendar-event/grade-choir-competition-victoria-sings-uvic/
LOCATION:UVic
END:VEVENT
BEGIN:VEVENT
DTSTART;TZID=America/Vancouver:20130304T150000
DTEND;TZID=America/Vancouver:20130304T160000
DTSTAMP:20260420T214954
CREATED:20130619T164619Z
LAST-MODIFIED:20130619T173355Z
UID:1291-1362409200-1362412800@margaretjenkins.sd61.bc.ca
SUMMARY:Sportball
DESCRIPTION:Register at www.sportball.ca
URL:https://margaretjenkins.sd61.bc.ca/calendar-event/sportball-16/
LOCATION:Gym
END:VEVENT
BEGIN:VEVENT
DTSTART;TZID=America/Vancouver:20130304T121000
DTEND;TZID=America/Vancouver:20130304T125000
DTSTAMP:20260420T214954
CREATED:20130304T174523Z
LAST-MODIFIED:20130619T173355Z
UID:1289-1362399000-1362401400@margaretjenkins.sd61.bc.ca
SUMMARY:Grade 3 - 5 Choir Practice
DESCRIPTION:
URL:https://margaretjenkins.sd61.bc.ca/calendar-event/grade-3-5-choir-practice-2/
LOCATION:Music Room
END:VEVENT
BEGIN:VEVENT
DTSTART;TZID=America/Vancouver:20130301T153000
DTEND;TZID=America/Vancouver:20130301T163000
DTSTAMP:20260420T214954
CREATED:20130619T164449Z
LAST-MODIFIED:20130619T173355Z
UID:1287-1362151800-1362155400@margaretjenkins.sd61.bc.ca
SUMMARY:Swim Club
DESCRIPTION:
URL:https://margaretjenkins.sd61.bc.ca/calendar-event/swim-club-5/
LOCATION:Crystal Pool
END:VEVENT
BEGIN:VEVENT
DTSTART;TZID=America/Vancouver:20130301T130000
DTEND;TZID=America/Vancouver:20130301T140000
DTSTAMP:20260420T214954
CREATED:20130619T164418Z
LAST-MODIFIED:20130619T173355Z
UID:1286-1362142800-1362146400@margaretjenkins.sd61.bc.ca
SUMMARY:Skating - Div. 1\, 2\, 3\, 8\, 9
DESCRIPTION:Helmets Mandatory (Bike Helmets are OK)
URL:https://margaretjenkins.sd61.bc.ca/calendar-event/skating-div-1-2-3-8-9/
END:VEVENT
BEGIN:VEVENT
DTSTART;TZID=America/Vancouver:20130301T121000
DTEND;TZID=America/Vancouver:20130301T124500
DTSTAMP:20260420T214954
CREATED:20130619T164345Z
LAST-MODIFIED:20130619T173355Z
UID:1284-1362139800-1362141900@margaretjenkins.sd61.bc.ca
SUMMARY:Grade 1 - Mini Basketball
DESCRIPTION:
URL:https://margaretjenkins.sd61.bc.ca/calendar-event/grade-1-mini-basketball-4/
LOCATION:Gym
END:VEVENT
BEGIN:VEVENT
DTSTART;TZID=America/Vancouver:20130228T190000
DTEND;TZID=America/Vancouver:20130228T200000
DTSTAMP:20260420T214954
CREATED:20130619T164312Z
LAST-MODIFIED:20130619T173356Z
UID:1283-1362078000-1362081600@margaretjenkins.sd61.bc.ca
SUMMARY:PAC Meeting
DESCRIPTION:
URL:https://margaretjenkins.sd61.bc.ca/calendar-event/pac-meeting-3/
END:VEVENT
BEGIN:VEVENT
DTSTART;TZID=America/Vancouver:20130228T151500
DTEND;TZID=America/Vancouver:20130228T161500
DTSTAMP:20260420T214954
CREATED:20130619T164239Z
LAST-MODIFIED:20130619T173356Z
UID:1282-1362064500-1362068100@margaretjenkins.sd61.bc.ca
SUMMARY:Grade 4/5 Girls Basketball Game
DESCRIPTION:
URL:https://margaretjenkins.sd61.bc.ca/calendar-event/grade-45-girls-basketball-game-2/
END:VEVENT
BEGIN:VEVENT
DTSTART;TZID=America/Vancouver:20130228T150000
DTEND;TZID=America/Vancouver:20130228T160000
DTSTAMP:20260420T214954
CREATED:20130619T164208Z
LAST-MODIFIED:20130619T173356Z
UID:1280-1362063600-1362067200@margaretjenkins.sd61.bc.ca
SUMMARY:Grade 4/5 Girls and Boys Rugby Practice
DESCRIPTION:MUST have a mouth guard.
URL:https://margaretjenkins.sd61.bc.ca/calendar-event/grade-45-girls-and-boys-rugby-practice-2/
LOCATION:On the field
END:VEVENT
BEGIN:VEVENT
DTSTART;TZID=America/Vancouver:20130228T121000
DTEND;TZID=America/Vancouver:20130228T125000
DTSTAMP:20260420T214954
CREATED:20130619T164119Z
LAST-MODIFIED:20130619T173356Z
UID:1278-1362053400-1362055800@margaretjenkins.sd61.bc.ca
SUMMARY:Grade 4/5 Boys Basketball Practice
DESCRIPTION:
URL:https://margaretjenkins.sd61.bc.ca/calendar-event/grade-45-boys-basketball-practice-8/
LOCATION:Gym
END:VEVENT
BEGIN:VEVENT
DTSTART;VALUE=DATE:20130228
DTEND;VALUE=DATE:20130301
DTSTAMP:20260420T214954
CREATED:20130619T164052Z
LAST-MODIFIED:20130619T173356Z
UID:1277-1362009600-1362095999@margaretjenkins.sd61.bc.ca
SUMMARY:School Newsletter
DESCRIPTION:
URL:https://margaretjenkins.sd61.bc.ca/calendar-event/school-newsletter-10/
END:VEVENT
BEGIN:VEVENT
DTSTART;TZID=America/Vancouver:20130227T130000
DTEND;TZID=America/Vancouver:20130227T133000
DTSTAMP:20260420T214954
CREATED:20130619T164034Z
LAST-MODIFIED:20130619T173356Z
UID:1275-1361970000-1361971800@margaretjenkins.sd61.bc.ca
SUMMARY:Assembly
DESCRIPTION:
URL:https://margaretjenkins.sd61.bc.ca/calendar-event/assembly-5/
LOCATION:Gym
END:VEVENT
BEGIN:VEVENT
DTSTART;TZID=America/Vancouver:20130227T121000
DTEND;TZID=America/Vancouver:20130227T125000
DTSTAMP:20260420T214954
CREATED:20130619T164006Z
LAST-MODIFIED:20130619T173356Z
UID:1273-1361967000-1361969400@margaretjenkins.sd61.bc.ca
SUMMARY:Grade 4/5 Girls Basketball Practice
DESCRIPTION:
URL:https://margaretjenkins.sd61.bc.ca/calendar-event/grade-45-girls-basketball-practice-12/
LOCATION:Gym
END:VEVENT
BEGIN:VEVENT
DTSTART;VALUE=DATE:20130227
DTEND;VALUE=DATE:20130228
DTSTAMP:20260420T214954
CREATED:20130619T163932Z
LAST-MODIFIED:20130619T173356Z
UID:1272-1361923200-1362009599@margaretjenkins.sd61.bc.ca
SUMMARY:Pink Shirt - Anti-Bullying Day
DESCRIPTION:Students and adults are invited to wear pink for the day.
URL:https://margaretjenkins.sd61.bc.ca/calendar-event/pink-shirt-anti-bullying-day/
END:VEVENT
BEGIN:VEVENT
DTSTART;TZID=America/Vancouver:20130226T153000
DTEND;TZID=America/Vancouver:20130226T170000
DTSTAMP:20260420T214954
CREATED:20130619T163424Z
LAST-MODIFIED:20130619T173356Z
UID:1270-1361892600-1361898000@margaretjenkins.sd61.bc.ca
SUMMARY:Grade 3-5 Girls Softball Practice
DESCRIPTION:
URL:https://margaretjenkins.sd61.bc.ca/calendar-event/grade-3-5-girls-softball-practice-4/
LOCATION:Gym
END:VEVENT
BEGIN:VEVENT
DTSTART;TZID=America/Vancouver:20130226T150000
DTEND;TZID=America/Vancouver:20130226T160000
DTSTAMP:20260420T214954
CREATED:20130619T163350Z
LAST-MODIFIED:20130619T173356Z
UID:1268-1361890800-1361894400@margaretjenkins.sd61.bc.ca
SUMMARY:Grade 4/5 Girls and Boys Rugby Practice
DESCRIPTION:MUST have a mouth guard.
URL:https://margaretjenkins.sd61.bc.ca/calendar-event/grade-45-girls-and-boys-rugby-practice/
LOCATION:On the field
END:VEVENT
BEGIN:VEVENT
DTSTART;TZID=America/Vancouver:20130226T121000
DTEND;TZID=America/Vancouver:20130226T125000
DTSTAMP:20260420T214954
CREATED:20130619T163256Z
LAST-MODIFIED:20130619T173356Z
UID:1266-1361880600-1361883000@margaretjenkins.sd61.bc.ca
SUMMARY:Grade 4/5 Girls Basketball Practice
DESCRIPTION:
URL:https://margaretjenkins.sd61.bc.ca/calendar-event/grade-45-girls-basketball-practice-11/
LOCATION:Gym
END:VEVENT
BEGIN:VEVENT
DTSTART;TZID=America/Vancouver:20130225T150000
DTEND;TZID=America/Vancouver:20130225T160000
DTSTAMP:20260420T214954
CREATED:20130619T163218Z
LAST-MODIFIED:20130619T173356Z
UID:1264-1361804400-1361808000@margaretjenkins.sd61.bc.ca
SUMMARY:Sportball
DESCRIPTION:Register at www.sportball.ca
URL:https://margaretjenkins.sd61.bc.ca/calendar-event/sportball-15/
LOCATION:Gym
END:VEVENT
BEGIN:VEVENT
DTSTART;TZID=America/Vancouver:20130225T121000
DTEND;TZID=America/Vancouver:20130225T125000
DTSTAMP:20260420T214954
CREATED:20130619T163147Z
LAST-MODIFIED:20130619T173356Z
UID:1262-1361794200-1361796600@margaretjenkins.sd61.bc.ca
SUMMARY:Grade 3 to 5 Choir Practice
DESCRIPTION:
URL:https://margaretjenkins.sd61.bc.ca/calendar-event/grade-3-to-5-choir-practice-5/
LOCATION:Music Room
END:VEVENT
BEGIN:VEVENT
DTSTART;TZID=America/Vancouver:20130225T121000
DTEND;TZID=America/Vancouver:20130225T130000
DTSTAMP:20260420T214954
CREATED:20130619T163117Z
LAST-MODIFIED:20130619T173356Z
UID:1261-1361794200-1361797200@margaretjenkins.sd61.bc.ca
SUMMARY:Grade 4/5 Boys Basketball Practice
DESCRIPTION:
URL:https://margaretjenkins.sd61.bc.ca/calendar-event/grade-45-boys-basketball-practice-7/
END:VEVENT
BEGIN:VEVENT
DTSTART;TZID=America/Vancouver:20130225T085000
DTEND;TZID=America/Vancouver:20130225T104500
DTSTAMP:20260420T214954
CREATED:20130619T163029Z
LAST-MODIFIED:20130619T173356Z
UID:1259-1361782200-1361789100@margaretjenkins.sd61.bc.ca
SUMMARY:Lice Check
DESCRIPTION:
URL:https://margaretjenkins.sd61.bc.ca/calendar-event/lice-check/
LOCATION:In the hallway by the gym
END:VEVENT
BEGIN:VEVENT
DTSTART;TZID=America/Vancouver:20130222T153000
DTEND;TZID=America/Vancouver:20130222T163000
DTSTAMP:20260420T214954
CREATED:20130617T224835Z
LAST-MODIFIED:20130619T173404Z
UID:1210-1361547000-1361550600@margaretjenkins.sd61.bc.ca
SUMMARY:Swim Club
DESCRIPTION:
URL:https://margaretjenkins.sd61.bc.ca/calendar-event/swim-club-4/
LOCATION:Crystal Pool
END:VEVENT
END:VCALENDAR