BEGIN:VCALENDAR
VERSION:2.0
PRODID:-//Margaret Jenkins Elementary - ECPv6.2.8.1//NONSGML v1.0//EN
CALSCALE:GREGORIAN
METHOD:PUBLISH
X-WR-CALNAME:Margaret Jenkins Elementary
X-ORIGINAL-URL:https://margaretjenkins.sd61.bc.ca
X-WR-CALDESC:Events for Margaret Jenkins Elementary
REFRESH-INTERVAL;VALUE=DURATION:PT1H
X-Robots-Tag:noindex
X-PUBLISHED-TTL:PT1H
BEGIN:VTIMEZONE
TZID:America/Vancouver
BEGIN:DAYLIGHT
TZOFFSETFROM:-0800
TZOFFSETTO:-0700
TZNAME:PDT
DTSTART:20130310T100000
END:DAYLIGHT
BEGIN:STANDARD
TZOFFSETFROM:-0700
TZOFFSETTO:-0800
TZNAME:PST
DTSTART:20131103T090000
END:STANDARD
END:VTIMEZONE
BEGIN:VEVENT
DTSTART;TZID=America/Vancouver:20130207T121000
DTEND;TZID=America/Vancouver:20130207T125000
DTSTAMP:20260421T172407
CREATED:20130617T223010Z
LAST-MODIFIED:20130619T173413Z
UID:1168-1360239000-1360241400@margaretjenkins.sd61.bc.ca
SUMMARY:Grade 4/5 Boys Baseball Pitching Practice
DESCRIPTION:
URL:https://margaretjenkins.sd61.bc.ca/calendar-event/grade-45-boys-baseball-pitching-practice-3/
LOCATION:Gym
END:VEVENT
BEGIN:VEVENT
DTSTART;TZID=America/Vancouver:20130207T130000
DTEND;TZID=America/Vancouver:20130207T140000
DTSTAMP:20260421T172407
CREATED:20130617T223058Z
LAST-MODIFIED:20130619T173413Z
UID:1170-1360242000-1360245600@margaretjenkins.sd61.bc.ca
SUMMARY:Ready\, Set\, Learn
DESCRIPTION:
URL:https://margaretjenkins.sd61.bc.ca/calendar-event/ready-set-learn/
END:VEVENT
BEGIN:VEVENT
DTSTART;TZID=America/Vancouver:20130207T130000
DTEND;TZID=America/Vancouver:20130207T140000
DTSTAMP:20260421T172407
CREATED:20130617T223206Z
LAST-MODIFIED:20130619T173413Z
UID:1171-1360242000-1360245600@margaretjenkins.sd61.bc.ca
SUMMARY:Skating - Div. 1\, 7\, 8\, 11\, 14
DESCRIPTION:Helmets are mandatory. Bike helmets are okay.
URL:https://margaretjenkins.sd61.bc.ca/calendar-event/skating-div-1-7-8-11-14/
LOCATION:Oak Bay Rec Centre
END:VEVENT
BEGIN:VEVENT
DTSTART;TZID=America/Vancouver:20130207T190000
DTEND;TZID=America/Vancouver:20130207T200000
DTSTAMP:20260421T172407
CREATED:20130617T223244Z
LAST-MODIFIED:20130619T173413Z
UID:1173-1360263600-1360267200@margaretjenkins.sd61.bc.ca
SUMMARY:Monterey Middle School Open House
DESCRIPTION:
URL:https://margaretjenkins.sd61.bc.ca/calendar-event/monterey-middle-school-open-house/
END:VEVENT
BEGIN:VEVENT
DTSTART;TZID=America/Vancouver:20130208T153000
DTEND;TZID=America/Vancouver:20130208T163000
DTSTAMP:20260421T172407
CREATED:20130617T223321Z
LAST-MODIFIED:20130619T173413Z
UID:1174-1360337400-1360341000@margaretjenkins.sd61.bc.ca
SUMMARY:Swim Club
DESCRIPTION:
URL:https://margaretjenkins.sd61.bc.ca/calendar-event/swim-club-3/
LOCATION:Crystal Pool
END:VEVENT
BEGIN:VEVENT
DTSTART;VALUE=DATE:20130211
DTEND;VALUE=DATE:20130212
DTSTAMP:20260421T172407
CREATED:20130617T223337Z
LAST-MODIFIED:20130619T173413Z
UID:1176-1360540800-1360627199@margaretjenkins.sd61.bc.ca
SUMMARY:Family Day
DESCRIPTION:
URL:https://margaretjenkins.sd61.bc.ca/calendar-event/family-day/
END:VEVENT
BEGIN:VEVENT
DTSTART;TZID=America/Vancouver:20130212T121000
DTEND;TZID=America/Vancouver:20130212T125000
DTSTAMP:20260421T172407
CREATED:20130617T223416Z
LAST-MODIFIED:20130619T173413Z
UID:1177-1360671000-1360673400@margaretjenkins.sd61.bc.ca
SUMMARY:Grade 4/5 Girls Basketball Practice
DESCRIPTION:
URL:https://margaretjenkins.sd61.bc.ca/calendar-event/grade-45-girls-basketball-practice-7/
LOCATION:Gym
END:VEVENT
BEGIN:VEVENT
DTSTART;TZID=America/Vancouver:20130212T153000
DTEND;TZID=America/Vancouver:20130212T153000
DTSTAMP:20260421T172407
CREATED:20130617T223458Z
LAST-MODIFIED:20130619T173413Z
UID:1179-1360683000-1360683000@margaretjenkins.sd61.bc.ca
SUMMARY:Grade 3-5 Girls Softball Practice
DESCRIPTION:
URL:https://margaretjenkins.sd61.bc.ca/calendar-event/grade-3-5-girls-softball-practice-2/
LOCATION:Gym
END:VEVENT
BEGIN:VEVENT
DTSTART;TZID=America/Vancouver:20130213T084000
DTEND;TZID=America/Vancouver:20130213T100000
DTSTAMP:20260421T172407
CREATED:20130617T223603Z
LAST-MODIFIED:20130619T173404Z
UID:1181-1360744800-1360749600@margaretjenkins.sd61.bc.ca
SUMMARY:Grade 2 - Primary Symphony - Div. 8\, 9\, 10\, 11\, 12\, 13
DESCRIPTION:To UVic by bus.
URL:https://margaretjenkins.sd61.bc.ca/calendar-event/grade-2-primary-symphony-div-8-9-10-11-12-13/
LOCATION:UVic
END:VEVENT
BEGIN:VEVENT
DTSTART;TZID=America/Vancouver:20130213T121000
DTEND;TZID=America/Vancouver:20130213T125000
DTSTAMP:20260421T172407
CREATED:20130617T223643Z
LAST-MODIFIED:20130619T173404Z
UID:1183-1360757400-1360759800@margaretjenkins.sd61.bc.ca
SUMMARY:Grade 4/5 Girls Basketball Practice
DESCRIPTION:
URL:https://margaretjenkins.sd61.bc.ca/calendar-event/grade-45-girls-basketball-practice-8/
LOCATION:Gym
END:VEVENT
BEGIN:VEVENT
DTSTART;TZID=America/Vancouver:20130213T150000
DTEND;TZID=America/Vancouver:20130213T160000
DTSTAMP:20260421T172407
CREATED:20130617T223829Z
LAST-MODIFIED:20130619T173404Z
UID:1185-1360767600-1360771200@margaretjenkins.sd61.bc.ca
SUMMARY:Staff Meeting
DESCRIPTION:
URL:https://margaretjenkins.sd61.bc.ca/calendar-event/staff-meeting-5/
END:VEVENT
BEGIN:VEVENT
DTSTART;VALUE=DATE:20130214
DTEND;VALUE=DATE:20130215
DTSTAMP:20260421T172407
CREATED:20130617T223844Z
LAST-MODIFIED:20130619T173404Z
UID:1186-1360800000-1360886399@margaretjenkins.sd61.bc.ca
SUMMARY:School Newsletter
DESCRIPTION:
URL:https://margaretjenkins.sd61.bc.ca/calendar-event/school-newsletter-9/
END:VEVENT
BEGIN:VEVENT
DTSTART;TZID=America/Vancouver:20130214T102000
DTEND;TZID=America/Vancouver:20130214T113000
DTSTAMP:20260421T172407
CREATED:20130617T223937Z
LAST-MODIFIED:20130619T173404Z
UID:1187-1360837200-1360841400@margaretjenkins.sd61.bc.ca
SUMMARY:Grade 4/5 Intermediate Symphony - Div. 1\, 2\, 3\, 4\, 5
DESCRIPTION:To UVic by bus.
URL:https://margaretjenkins.sd61.bc.ca/calendar-event/grade-45-intermediate-symphony-div-1-2-3-4-5/
LOCATION:UVic
END:VEVENT
BEGIN:VEVENT
DTSTART;VALUE=DATE:20130215
DTEND;VALUE=DATE:20130216
DTSTAMP:20260421T172407
CREATED:20130617T223950Z
LAST-MODIFIED:20130619T173404Z
UID:1189-1360886400-1360972799@margaretjenkins.sd61.bc.ca
SUMMARY:Pro-D Day
DESCRIPTION:
URL:https://margaretjenkins.sd61.bc.ca/calendar-event/pro-d-day-2/
END:VEVENT
BEGIN:VEVENT
DTSTART;TZID=America/Vancouver:20130218T121000
DTEND;TZID=America/Vancouver:20130218T125000
DTSTAMP:20260421T172407
CREATED:20130617T224028Z
LAST-MODIFIED:20130619T173404Z
UID:1190-1361189400-1361191800@margaretjenkins.sd61.bc.ca
SUMMARY:Grade 4/5 Boys Basketball Practice
DESCRIPTION:
URL:https://margaretjenkins.sd61.bc.ca/calendar-event/grade-45-boys-basketball-practice-5/
LOCATION:Gym
END:VEVENT
BEGIN:VEVENT
DTSTART;TZID=America/Vancouver:20130218T121000
DTEND;TZID=America/Vancouver:20130218T125000
DTSTAMP:20260421T172407
CREATED:20130617T224100Z
LAST-MODIFIED:20130619T173404Z
UID:1192-1361189400-1361191800@margaretjenkins.sd61.bc.ca
SUMMARY:Grade 3-5 Choir Practice
DESCRIPTION:
URL:https://margaretjenkins.sd61.bc.ca/calendar-event/grade-3-5-choir-practice/
END:VEVENT
BEGIN:VEVENT
DTSTART;TZID=America/Vancouver:20130218T150000
DTEND;TZID=America/Vancouver:20130218T160000
DTSTAMP:20260421T172407
CREATED:20130617T224125Z
LAST-MODIFIED:20130619T173404Z
UID:1193-1361199600-1361203200@margaretjenkins.sd61.bc.ca
SUMMARY:Sportball
DESCRIPTION:Register at www.sportball.ca
URL:https://margaretjenkins.sd61.bc.ca/calendar-event/sportball-14/
LOCATION:Gym
END:VEVENT
BEGIN:VEVENT
DTSTART;TZID=America/Vancouver:20130219T121000
DTEND;TZID=America/Vancouver:20130219T125000
DTSTAMP:20260421T172407
CREATED:20130617T224220Z
LAST-MODIFIED:20130619T173404Z
UID:1195-1361275800-1361278200@margaretjenkins.sd61.bc.ca
SUMMARY:Grade 4/5 Girls Basketball Practice
DESCRIPTION:
URL:https://margaretjenkins.sd61.bc.ca/calendar-event/grade-45-girls-basketball-practice-9/
LOCATION:Gym
END:VEVENT
BEGIN:VEVENT
DTSTART;TZID=America/Vancouver:20130219T153000
DTEND;TZID=America/Vancouver:20130219T170000
DTSTAMP:20260421T172407
CREATED:20130617T224310Z
LAST-MODIFIED:20130619T173404Z
UID:1197-1361287800-1361293200@margaretjenkins.sd61.bc.ca
SUMMARY:Grade 3-5 Girls Softball Practice
DESCRIPTION:
URL:https://margaretjenkins.sd61.bc.ca/calendar-event/grade-3-5-girls-softball-practice-3/
LOCATION:Gym
END:VEVENT
BEGIN:VEVENT
DTSTART;TZID=America/Vancouver:20130219T160000
DTEND;TZID=America/Vancouver:20130219T170000
DTSTAMP:20260421T172407
CREATED:20130617T224428Z
LAST-MODIFIED:20130619T173404Z
UID:1199-1361289600-1361293200@margaretjenkins.sd61.bc.ca
SUMMARY:Family Portraits (Organized through LifeTouch)
DESCRIPTION:
URL:https://margaretjenkins.sd61.bc.ca/calendar-event/family-portraits-organized-through-lifetouch/
LOCATION:The Annex
END:VEVENT
BEGIN:VEVENT
DTSTART;VALUE=DATE:20130220
DTEND;VALUE=DATE:20130221
DTSTAMP:20260421T172407
CREATED:20130617T224504Z
LAST-MODIFIED:20130619T173404Z
UID:1201-1361318400-1361404799@margaretjenkins.sd61.bc.ca
SUMMARY:Fieldtrip: Div. 10 & 14 - Walk to Gonzales Beach
DESCRIPTION:
URL:https://margaretjenkins.sd61.bc.ca/calendar-event/fieldtrip-div-10-14-walk-to-gonzales-beach/
END:VEVENT
BEGIN:VEVENT
DTSTART;VALUE=DATE:20130220
DTEND;VALUE=DATE:20130221
DTSTAMP:20260421T172407
CREATED:20130617T224522Z
LAST-MODIFIED:20130619T173404Z
UID:1202-1361318400-1361404799@margaretjenkins.sd61.bc.ca
SUMMARY:Pizza/Sushi Day
DESCRIPTION:
URL:https://margaretjenkins.sd61.bc.ca/calendar-event/pizzasushi-day-7/
END:VEVENT
BEGIN:VEVENT
DTSTART;TZID=America/Vancouver:20130220T121000
DTEND;TZID=America/Vancouver:20130220T125000
DTSTAMP:20260421T172407
CREATED:20130617T224601Z
LAST-MODIFIED:20130619T173404Z
UID:1203-1361362200-1361364600@margaretjenkins.sd61.bc.ca
SUMMARY:Grade 4/5 Girls Basketball Practice
DESCRIPTION:
URL:https://margaretjenkins.sd61.bc.ca/calendar-event/grade-45-girls-basketball-practice-10/
LOCATION:Gym
END:VEVENT
BEGIN:VEVENT
DTSTART;TZID=America/Vancouver:20130220T135000
DTEND;TZID=America/Vancouver:20130220T145000
DTSTAMP:20260421T172407
CREATED:20130617T224636Z
LAST-MODIFIED:20130619T173404Z
UID:1205-1361368200-1361371800@margaretjenkins.sd61.bc.ca
SUMMARY:Early Dismissal
DESCRIPTION:
URL:https://margaretjenkins.sd61.bc.ca/calendar-event/early-dismissal/
END:VEVENT
BEGIN:VEVENT
DTSTART;TZID=America/Vancouver:20130220T140000
DTEND;TZID=America/Vancouver:20130220T170000
DTSTAMP:20260421T172407
CREATED:20130617T224707Z
LAST-MODIFIED:20130619T173404Z
UID:1206-1361368800-1361379600@margaretjenkins.sd61.bc.ca
SUMMARY:Student-Led Conferences
DESCRIPTION:
URL:https://margaretjenkins.sd61.bc.ca/calendar-event/student-led-conferences/
END:VEVENT
BEGIN:VEVENT
DTSTART;TZID=America/Vancouver:20130221T121000
DTEND;TZID=America/Vancouver:20130221T125000
DTSTAMP:20260421T172407
CREATED:20130617T224738Z
LAST-MODIFIED:20130619T173404Z
UID:1207-1361448600-1361451000@margaretjenkins.sd61.bc.ca
SUMMARY:Grade 4/5 Boys Basketball Practice
DESCRIPTION:
URL:https://margaretjenkins.sd61.bc.ca/calendar-event/grade-45-boys-basketball-practice-6/
LOCATION:Gym
END:VEVENT
BEGIN:VEVENT
DTSTART;VALUE=DATE:20130222
DTEND;VALUE=DATE:20130223
DTSTAMP:20260421T172407
CREATED:20130617T224801Z
LAST-MODIFIED:20130619T173404Z
UID:1209-1361491200-1361577599@margaretjenkins.sd61.bc.ca
SUMMARY:K-12 Student Transfer Ends
DESCRIPTION:If you want to request a school other than your pathway school (grade 5 parents – if your child will not be going to their pathway school\, please let us know which school they will be attending – thank you)
URL:https://margaretjenkins.sd61.bc.ca/calendar-event/k-12-student-transfer-ends/
END:VEVENT
BEGIN:VEVENT
DTSTART;TZID=America/Vancouver:20130222T153000
DTEND;TZID=America/Vancouver:20130222T163000
DTSTAMP:20260421T172407
CREATED:20130617T224835Z
LAST-MODIFIED:20130619T173404Z
UID:1210-1361547000-1361550600@margaretjenkins.sd61.bc.ca
SUMMARY:Swim Club
DESCRIPTION:
URL:https://margaretjenkins.sd61.bc.ca/calendar-event/swim-club-4/
LOCATION:Crystal Pool
END:VEVENT
BEGIN:VEVENT
DTSTART;TZID=America/Vancouver:20130225T085000
DTEND;TZID=America/Vancouver:20130225T104500
DTSTAMP:20260421T172407
CREATED:20130619T163029Z
LAST-MODIFIED:20130619T173356Z
UID:1259-1361782200-1361789100@margaretjenkins.sd61.bc.ca
SUMMARY:Lice Check
DESCRIPTION:
URL:https://margaretjenkins.sd61.bc.ca/calendar-event/lice-check/
LOCATION:In the hallway by the gym
END:VEVENT
BEGIN:VEVENT
DTSTART;TZID=America/Vancouver:20130225T121000
DTEND;TZID=America/Vancouver:20130225T130000
DTSTAMP:20260421T172407
CREATED:20130619T163117Z
LAST-MODIFIED:20130619T173356Z
UID:1261-1361794200-1361797200@margaretjenkins.sd61.bc.ca
SUMMARY:Grade 4/5 Boys Basketball Practice
DESCRIPTION:
URL:https://margaretjenkins.sd61.bc.ca/calendar-event/grade-45-boys-basketball-practice-7/
END:VEVENT
END:VCALENDAR