BEGIN:VCALENDAR
VERSION:2.0
PRODID:-//Margaret Jenkins Elementary - ECPv6.2.8.1//NONSGML v1.0//EN
CALSCALE:GREGORIAN
METHOD:PUBLISH
X-ORIGINAL-URL:https://margaretjenkins.sd61.bc.ca
X-WR-CALDESC:Events for Margaret Jenkins Elementary
REFRESH-INTERVAL;VALUE=DURATION:PT1H
X-Robots-Tag:noindex
X-PUBLISHED-TTL:PT1H
BEGIN:VTIMEZONE
TZID:America/Vancouver
BEGIN:DAYLIGHT
TZOFFSETFROM:-0800
TZOFFSETTO:-0700
TZNAME:PDT
DTSTART:20180311T100000
END:DAYLIGHT
BEGIN:STANDARD
TZOFFSETFROM:-0700
TZOFFSETTO:-0800
TZNAME:PST
DTSTART:20181104T090000
END:STANDARD
END:VTIMEZONE
BEGIN:VEVENT
DTSTART;TZID=America/Vancouver:20180108T080000
DTEND;TZID=America/Vancouver:20180108T170000
DTSTAMP:20260425T065434
CREATED:20170620T183847Z
LAST-MODIFIED:20170620T183847Z
UID:3449-1515398400-1515430800@margaretjenkins.sd61.bc.ca
SUMMARY:Schools Reopen after Winter vacation
DESCRIPTION:
URL:https://margaretjenkins.sd61.bc.ca/calendar-event/schools-reopen-after-winter-vacation/
END:VEVENT
BEGIN:VEVENT
DTSTART;TZID=America/Vancouver:20180110T080000
DTEND;TZID=America/Vancouver:20180110T170000
DTSTAMP:20260425T065434
CREATED:20170915T181619Z
LAST-MODIFIED:20170915T181619Z
UID:3580-1515571200-1515603600@margaretjenkins.sd61.bc.ca
SUMMARY:first day for pizza/sushi lunches session 2
DESCRIPTION:
URL:https://margaretjenkins.sd61.bc.ca/calendar-event/first-day-for-pizzasushi-lunches-session-2/
END:VEVENT
BEGIN:VEVENT
DTSTART;TZID=America/Vancouver:20180115T080000
DTEND;TZID=America/Vancouver:20180119T150000
DTSTAMP:20260425T065434
CREATED:20170620T171203Z
LAST-MODIFIED:20171121T181518Z
UID:3421-1516003200-1516374000@margaretjenkins.sd61.bc.ca
SUMMARY:Early French Immersion Registration Week (Kindergarten and Grade 1)
DESCRIPTION:Click here for more information on Early French Immersion Registration
URL:https://margaretjenkins.sd61.bc.ca/calendar-event/early-french-immersion-registration-week-kindergarten-and-grade-1-2/
END:VEVENT
BEGIN:VEVENT
DTSTART;TZID=America/Vancouver:20180122T080000
DTEND;TZID=America/Vancouver:20180122T170000
DTSTAMP:20260425T065434
CREATED:20170620T182523Z
LAST-MODIFIED:20170620T182523Z
UID:3433-1516608000-1516640400@margaretjenkins.sd61.bc.ca
SUMMARY:School Chosen ProD Day
DESCRIPTION:no school for students
URL:https://margaretjenkins.sd61.bc.ca/calendar-event/school-chosen-prod-day/
END:VEVENT
BEGIN:VEVENT
DTSTART;TZID=America/Vancouver:20180125T190000
DTEND;TZID=America/Vancouver:20180125T210000
DTSTAMP:20260425T065434
CREATED:20170620T210651Z
LAST-MODIFIED:20170620T210651Z
UID:3490-1516906800-1516914000@margaretjenkins.sd61.bc.ca
SUMMARY:PAC Meeting 7:00 in library
DESCRIPTION:
URL:https://margaretjenkins.sd61.bc.ca/calendar-event/pac-meeting-700-in-library-5/
END:VEVENT
BEGIN:VEVENT
DTSTART;TZID=America/Vancouver:20180129T080000
DTEND;TZID=America/Vancouver:20180202T150000
DTSTAMP:20260425T065434
CREATED:20170620T172317Z
LAST-MODIFIED:20171121T193313Z
UID:3423-1517212800-1517583600@margaretjenkins.sd61.bc.ca
SUMMARY:Kindergarten Registration and Kindergarten Transfer Week
DESCRIPTION:Click here or more information on Kindergarten Registration
URL:https://margaretjenkins.sd61.bc.ca/calendar-event/kindergarten-registration-and-kindergarten-transfer-week/
END:VEVENT
BEGIN:VEVENT
DTSTART;TZID=America/Vancouver:20180129T080000
DTEND;TZID=America/Vancouver:20180202T170000
DTSTAMP:20260425T065434
CREATED:20170620T172745Z
LAST-MODIFIED:20171121T182739Z
UID:3425-1517212800-1517590800@margaretjenkins.sd61.bc.ca
SUMMARY:Late French Immersion Registration Week
DESCRIPTION:Click here for more information on Late French Immersion Registration
URL:https://margaretjenkins.sd61.bc.ca/calendar-event/late-french-immersion-registration-week/
END:VEVENT
END:VCALENDAR