BEGIN:VCALENDAR
VERSION:2.0
PRODID:-//Margaret Jenkins Elementary - ECPv6.2.8.1//NONSGML v1.0//EN
CALSCALE:GREGORIAN
METHOD:PUBLISH
X-ORIGINAL-URL:https://margaretjenkins.sd61.bc.ca
X-WR-CALDESC:Events for Margaret Jenkins Elementary
REFRESH-INTERVAL;VALUE=DURATION:PT1H
X-Robots-Tag:noindex
X-PUBLISHED-TTL:PT1H
BEGIN:VTIMEZONE
TZID:America/Vancouver
BEGIN:DAYLIGHT
TZOFFSETFROM:-0800
TZOFFSETTO:-0700
TZNAME:PDT
DTSTART:20180311T100000
END:DAYLIGHT
BEGIN:STANDARD
TZOFFSETFROM:-0700
TZOFFSETTO:-0800
TZNAME:PST
DTSTART:20181104T090000
END:STANDARD
END:VTIMEZONE
BEGIN:VEVENT
DTSTART;TZID=America/Vancouver:20180129T080000
DTEND;TZID=America/Vancouver:20180202T150000
DTSTAMP:20260425T154659
CREATED:20170620T172317Z
LAST-MODIFIED:20171121T193313Z
UID:3423-1517212800-1517583600@margaretjenkins.sd61.bc.ca
SUMMARY:Kindergarten Registration and Kindergarten Transfer Week
DESCRIPTION:Click here or more information on Kindergarten Registration
URL:https://margaretjenkins.sd61.bc.ca/calendar-event/kindergarten-registration-and-kindergarten-transfer-week/
END:VEVENT
BEGIN:VEVENT
DTSTART;TZID=America/Vancouver:20180129T080000
DTEND;TZID=America/Vancouver:20180202T170000
DTSTAMP:20260425T154659
CREATED:20170620T172745Z
LAST-MODIFIED:20171121T182739Z
UID:3425-1517212800-1517590800@margaretjenkins.sd61.bc.ca
SUMMARY:Late French Immersion Registration Week
DESCRIPTION:Click here for more information on Late French Immersion Registration
URL:https://margaretjenkins.sd61.bc.ca/calendar-event/late-french-immersion-registration-week/
END:VEVENT
BEGIN:VEVENT
DTSTART;TZID=America/Vancouver:20180212T080000
DTEND;TZID=America/Vancouver:20180212T170000
DTSTAMP:20260425T154659
CREATED:20170620T183914Z
LAST-MODIFIED:20170620T183914Z
UID:3451-1518422400-1518454800@margaretjenkins.sd61.bc.ca
SUMMARY:Family Day
DESCRIPTION:
URL:https://margaretjenkins.sd61.bc.ca/calendar-event/family-day-3/
END:VEVENT
BEGIN:VEVENT
DTSTART;TZID=America/Vancouver:20180214T080000
DTEND;TZID=America/Vancouver:20180214T170000
DTSTAMP:20260425T154659
CREATED:20180208T221339Z
LAST-MODIFIED:20180208T221339Z
UID:3730-1518595200-1518627600@margaretjenkins.sd61.bc.ca
SUMMARY:Grade 5 Hoodie order deadline
DESCRIPTION:Order at https://emjs.hotlunches.net 
URL:https://margaretjenkins.sd61.bc.ca/calendar-event/grade-5-hoodie-order-deadline/
END:VEVENT
BEGIN:VEVENT
DTSTART;TZID=America/Vancouver:20180215T080000
DTEND;TZID=America/Vancouver:20180223T150000
DTSTAMP:20260425T154659
CREATED:20170620T173442Z
LAST-MODIFIED:20171121T181210Z
UID:3427-1518681600-1519398000@margaretjenkins.sd61.bc.ca
SUMMARY:K - 12 Student Transfer Process
DESCRIPTION:The annual K-12 Student Transfer Process facilitates requests from students in Kindergarten to Grade 12 to transfer to schools outside of a designated catchment. To apply for a transfer request you must provide all required documentation and complete a form at the student’s current school in the week of February 15-23\, 2018. \nFor students who are not in catchment and looking to follow their school pathway at the time of transition from elementary to middle and middle to secondary (Grades 5 and 8)\, will now have to apply for a transfer request. Non-catchment students no longer automatically follow their current school pathway. \nFor more information on in catchment school pathways and transitions\, please visit School Pathways & Transitions \nIn the event\, a school receives more transfer requests by grade than the number of seats it can accommodate\, the waitlist order of transfer requests will be determined by lottery in accordance with our student enrolment priorities.
URL:https://margaretjenkins.sd61.bc.ca/calendar-event/k-12-student-transfer-process-2/
END:VEVENT
BEGIN:VEVENT
DTSTART;TZID=America/Vancouver:20180216T080000
DTEND;TZID=America/Vancouver:20180216T170000
DTSTAMP:20260425T154659
CREATED:20170620T185155Z
LAST-MODIFIED:20180112T191058Z
UID:3479-1518768000-1518800400@margaretjenkins.sd61.bc.ca
SUMMARY:PAC Staff Appreciation Luncheon
DESCRIPTION:
URL:https://margaretjenkins.sd61.bc.ca/calendar-event/pac-staff-appreciation-luncheon/
END:VEVENT
BEGIN:VEVENT
DTSTART;TZID=America/Vancouver:20180221T190000
DTEND;TZID=America/Vancouver:20180221T210000
DTSTAMP:20260425T154659
CREATED:20170620T210747Z
LAST-MODIFIED:20180219T165906Z
UID:3492-1519239600-1519246800@margaretjenkins.sd61.bc.ca
SUMMARY:*DATE CHANGE* PAC Meeting 7:00 in library
DESCRIPTION:
URL:https://margaretjenkins.sd61.bc.ca/calendar-event/pac-meeting-700-in-library-6/
END:VEVENT
BEGIN:VEVENT
DTSTART;TZID=America/Vancouver:20180223T080000
DTEND;TZID=America/Vancouver:20180223T170000
DTSTAMP:20260425T154659
CREATED:20170620T183953Z
LAST-MODIFIED:20170620T183953Z
UID:3453-1519372800-1519405200@margaretjenkins.sd61.bc.ca
SUMMARY:ProD Day
DESCRIPTION:
URL:https://margaretjenkins.sd61.bc.ca/calendar-event/prod-day-9/
END:VEVENT
END:VCALENDAR