BEGIN:VCALENDAR
VERSION:2.0
PRODID:-//Margaret Jenkins Elementary - ECPv6.2.8.1//NONSGML v1.0//EN
CALSCALE:GREGORIAN
METHOD:PUBLISH
X-ORIGINAL-URL:https://margaretjenkins.sd61.bc.ca
X-WR-CALDESC:Events for Margaret Jenkins Elementary
REFRESH-INTERVAL;VALUE=DURATION:PT1H
X-Robots-Tag:noindex
X-PUBLISHED-TTL:PT1H
BEGIN:VTIMEZONE
TZID:America/Vancouver
BEGIN:DAYLIGHT
TZOFFSETFROM:-0800
TZOFFSETTO:-0700
TZNAME:PDT
DTSTART:20180311T100000
END:DAYLIGHT
BEGIN:STANDARD
TZOFFSETFROM:-0700
TZOFFSETTO:-0800
TZNAME:PST
DTSTART:20181104T090000
END:STANDARD
END:VTIMEZONE
BEGIN:VEVENT
DTSTART;TZID=America/Vancouver:20180904T090000
DTEND;TZID=America/Vancouver:20180904T113000
DTSTAMP:20260423T191355
CREATED:20180424T202142Z
LAST-MODIFIED:20180615T180219Z
UID:3808-1536051600-1536060600@margaretjenkins.sd61.bc.ca
SUMMARY:First Day of School for grades 1 - 5
DESCRIPTION:Welcome Back!  All grades 1 – 5 students attend school between 9:00 and 11:30.  Returning students will line up at their last years class line out side and be welcomed by their last years teacher\, or if their teacher is no longer at the school\, the teacher who will be teaching in that room.  Students new to Margaret Jenkins will come to the library on the 2nd floor to receive a temporary classroom placement.  We take attendance for those first few days and are usually ready to place students in their new classrooms by the end of the first week.  School supplies can stay at home until students receive their new placements.
URL:https://margaretjenkins.sd61.bc.ca/calendar-event/first-day-of-school-for-grades-1-5-2/
END:VEVENT
BEGIN:VEVENT
DTSTART;TZID=America/Vancouver:20180906T080000
DTEND;TZID=America/Vancouver:20180906T170000
DTSTAMP:20260423T191355
CREATED:20180424T202253Z
LAST-MODIFIED:20180615T180536Z
UID:3810-1536220800-1536253200@margaretjenkins.sd61.bc.ca
SUMMARY:First Day of School for Kindergarteners
DESCRIPTION:Kindergarten students will attend today from either 9:30 – 11:00 or 1:00 – 2:30.  Details as to which group your child is placed will be emailed home at the end of August.
URL:https://margaretjenkins.sd61.bc.ca/calendar-event/first-day-of-school-for-kindergarteners/
END:VEVENT
BEGIN:VEVENT
DTSTART;TZID=America/Vancouver:20180907T084000
DTEND;TZID=America/Vancouver:20180907T115000
DTSTAMP:20260423T191355
CREATED:20180615T180715Z
LAST-MODIFIED:20180615T180715Z
UID:3918-1536309600-1536321000@margaretjenkins.sd61.bc.ca
SUMMARY:Half Day for Kindergarten
DESCRIPTION:Today all Kindergarten Students will attend from 8:40 – 11:50
URL:https://margaretjenkins.sd61.bc.ca/calendar-event/half-day-for-kindergarten/
END:VEVENT
BEGIN:VEVENT
DTSTART;TZID=America/Vancouver:20180910T080000
DTEND;TZID=America/Vancouver:20180910T170000
DTSTAMP:20260423T191355
CREATED:20180615T180802Z
LAST-MODIFIED:20180615T180802Z
UID:3920-1536566400-1536598800@margaretjenkins.sd61.bc.ca
SUMMARY:First Full Day for Kindergarteners
DESCRIPTION:8:40 – 2:48
URL:https://margaretjenkins.sd61.bc.ca/calendar-event/first-full-day-for-kindergarteners/
END:VEVENT
BEGIN:VEVENT
DTSTART;TZID=America/Vancouver:20180913T173000
DTEND;TZID=America/Vancouver:20180913T183000
DTSTAMP:20260423T191355
CREATED:20180615T181715Z
LAST-MODIFIED:20180904T210109Z
UID:3922-1536859800-1536863400@margaretjenkins.sd61.bc.ca
SUMMARY:Meet the Staff Night
DESCRIPTION:
URL:https://margaretjenkins.sd61.bc.ca/calendar-event/meet-the-staff-night-2/
END:VEVENT
BEGIN:VEVENT
DTSTART;TZID=America/Vancouver:20180917T080000
DTEND;TZID=America/Vancouver:20180917T170000
DTSTAMP:20260423T191355
CREATED:20180424T202331Z
LAST-MODIFIED:20180424T202331Z
UID:3812-1537171200-1537203600@margaretjenkins.sd61.bc.ca
SUMMARY:ProD Day
DESCRIPTION:no school for students
URL:https://margaretjenkins.sd61.bc.ca/calendar-event/prod-day-12/
END:VEVENT
BEGIN:VEVENT
DTSTART;TZID=America/Vancouver:20180918T130000
DTEND;TZID=America/Vancouver:20180918T150000
DTSTAMP:20260423T191355
CREATED:20180615T182207Z
LAST-MODIFIED:20180914T172406Z
UID:3924-1537275600-1537282800@margaretjenkins.sd61.bc.ca
SUMMARY:Terry Fox Run
DESCRIPTION:Students in Divisions 19 – 22 will run from 12:55 – 1:15.  Divisions 12 – 18 from 1:20 – 1:45.  Divisions 6 – 7 & 9 – 11 from 1:50 – 2:15. Divisions 1 – 5 & 8.
URL:https://margaretjenkins.sd61.bc.ca/calendar-event/terry-fox-run-5/
END:VEVENT
BEGIN:VEVENT
DTSTART;TZID=America/Vancouver:20180924T154500
DTEND;TZID=America/Vancouver:20180924T170000
DTSTAMP:20260423T191355
CREATED:20180914T172654Z
LAST-MODIFIED:20180914T172654Z
UID:3980-1537803900-1537808400@margaretjenkins.sd61.bc.ca
SUMMARY:Cross Country Meet
DESCRIPTION:at Clover Point
URL:https://margaretjenkins.sd61.bc.ca/calendar-event/cross-country-meet-24/
END:VEVENT
BEGIN:VEVENT
DTSTART;TZID=America/Vancouver:20180927T190000
DTEND;TZID=America/Vancouver:20180927T210000
DTSTAMP:20260423T191355
CREATED:20180913T230825Z
LAST-MODIFIED:20180913T230836Z
UID:3976-1538074800-1538082000@margaretjenkins.sd61.bc.ca
SUMMARY:PAC Meeting
DESCRIPTION:in the library
URL:https://margaretjenkins.sd61.bc.ca/calendar-event/pac-meeting-20/
END:VEVENT
BEGIN:VEVENT
DTSTART;TZID=America/Vancouver:20180928T080000
DTEND;TZID=America/Vancouver:20180928T170000
DTSTAMP:20260423T191355
CREATED:20180615T182229Z
LAST-MODIFIED:20180615T182229Z
UID:3926-1538121600-1538154000@margaretjenkins.sd61.bc.ca
SUMMARY:Orange Shirt Day
DESCRIPTION:
URL:https://margaretjenkins.sd61.bc.ca/calendar-event/orange-shirt-day-3/
END:VEVENT
BEGIN:VEVENT
DTSTART;TZID=America/Vancouver:20181001T080000
DTEND;TZID=America/Vancouver:20181001T170000
DTSTAMP:20260423T191355
CREATED:20180615T182648Z
LAST-MODIFIED:20180615T182648Z
UID:3928-1538380800-1538413200@margaretjenkins.sd61.bc.ca
SUMMARY:Individual Photo Day
DESCRIPTION:
URL:https://margaretjenkins.sd61.bc.ca/calendar-event/individual-photo-day-5/
END:VEVENT
BEGIN:VEVENT
DTSTART;TZID=America/Vancouver:20181001T080000
DTEND;TZID=America/Vancouver:20181005T170000
DTSTAMP:20260423T191355
CREATED:20180920T193105Z
LAST-MODIFIED:20180920T193105Z
UID:3997-1538380800-1538758800@margaretjenkins.sd61.bc.ca
SUMMARY:Walk and Wheel to School Week
DESCRIPTION:
URL:https://margaretjenkins.sd61.bc.ca/calendar-event/walk-and-wheel-to-school-week/
END:VEVENT
END:VCALENDAR