BEGIN:VCALENDAR
VERSION:2.0
PRODID:-//Margaret Jenkins Elementary - ECPv6.2.8.1//NONSGML v1.0//EN
CALSCALE:GREGORIAN
METHOD:PUBLISH
X-WR-CALNAME:Margaret Jenkins Elementary
X-ORIGINAL-URL:https://margaretjenkins.sd61.bc.ca
X-WR-CALDESC:Events for Margaret Jenkins Elementary
REFRESH-INTERVAL;VALUE=DURATION:PT1H
X-Robots-Tag:noindex
X-PUBLISHED-TTL:PT1H
BEGIN:VTIMEZONE
TZID:America/Vancouver
BEGIN:DAYLIGHT
TZOFFSETFROM:-0800
TZOFFSETTO:-0700
TZNAME:PDT
DTSTART:20190310T100000
END:DAYLIGHT
BEGIN:STANDARD
TZOFFSETFROM:-0700
TZOFFSETTO:-0800
TZNAME:PST
DTSTART:20191103T090000
END:STANDARD
END:VTIMEZONE
BEGIN:VEVENT
DTSTART;TZID=America/Vancouver:20190128T080000
DTEND;TZID=America/Vancouver:20190201T150000
DTSTAMP:20260423T150859
CREATED:20180528T220813Z
LAST-MODIFIED:20180528T220813Z
UID:3888-1548662400-1549033200@margaretjenkins.sd61.bc.ca
SUMMARY:Grade 6 - Late French Immersion Registration Week
DESCRIPTION:Thinking about late French Immersion for Middle School?  It’s time to register your grade 5 student at their catchment middle school.
URL:https://margaretjenkins.sd61.bc.ca/calendar-event/grade-6-late-french-immersion-registration-week/
END:VEVENT
BEGIN:VEVENT
DTSTART;TZID=America/Vancouver:20190128T080000
DTEND;TZID=America/Vancouver:20190201T170000
DTSTAMP:20260423T150859
CREATED:20180528T214715Z
LAST-MODIFIED:20180528T214715Z
UID:3886-1548662400-1549040400@margaretjenkins.sd61.bc.ca
SUMMARY:Kindergarten Registration and Kindergarten Transfer Week
DESCRIPTION:Registration for English Kindergarten.  Transfers can be requested for Kindergarten students (French or English) who wish to attend a school other than their catchment school.  Transfers must be submitted to the catchment school by 3:30 on February 1\, 2019
URL:https://margaretjenkins.sd61.bc.ca/calendar-event/kindergarten-registration-and-kindergarten-transfer-week-2/
END:VEVENT
BEGIN:VEVENT
DTSTART;TZID=America/Vancouver:20190206T183000
DTEND;TZID=America/Vancouver:20190206T203000
DTSTAMP:20260423T150859
CREATED:20190129T195734Z
LAST-MODIFIED:20190129T195734Z
UID:4178-1549477800-1549485000@margaretjenkins.sd61.bc.ca
SUMMARY:SD61 Catchment Boundary Review Open House at Spectrum
DESCRIPTION:in Gymnasium B
URL:https://margaretjenkins.sd61.bc.ca/calendar-event/sd61-catchment-boundary-review-open-house-at-spectrum/
END:VEVENT
BEGIN:VEVENT
DTSTART;TZID=America/Vancouver:20190213T080000
DTEND;TZID=America/Vancouver:20190213T170000
DTSTAMP:20260423T150859
CREATED:20180928T213520Z
LAST-MODIFIED:20180928T213520Z
UID:4024-1550044800-1550077200@margaretjenkins.sd61.bc.ca
SUMMARY:Hot Lunch Day
DESCRIPTION:
URL:https://margaretjenkins.sd61.bc.ca/calendar-event/hot-lunch-day-5/
END:VEVENT
BEGIN:VEVENT
DTSTART;TZID=America/Vancouver:20190213T183000
DTEND;TZID=America/Vancouver:20190213T203000
DTSTAMP:20260423T150859
CREATED:20190129T195839Z
LAST-MODIFIED:20190129T195839Z
UID:4180-1550082600-1550089800@margaretjenkins.sd61.bc.ca
SUMMARY:SD61 Catchment Boundary Review Open House at Lansdowne
DESCRIPTION:in the gymnasium
URL:https://margaretjenkins.sd61.bc.ca/calendar-event/sd61-catchment-boundary-review-open-house-at-lansdowne/
END:VEVENT
BEGIN:VEVENT
DTSTART;TZID=America/Vancouver:20190214T120000
DTEND;TZID=America/Vancouver:20190214T130000
DTSTAMP:20260423T150859
CREATED:20180928T213259Z
LAST-MODIFIED:20180928T213259Z
UID:4012-1550145600-1550149200@margaretjenkins.sd61.bc.ca
SUMMARY:Staff Appreciation Luncheon
DESCRIPTION:
URL:https://margaretjenkins.sd61.bc.ca/calendar-event/staff-appreciation-luncheon/
END:VEVENT
BEGIN:VEVENT
DTSTART;TZID=America/Vancouver:20190215T080000
DTEND;TZID=America/Vancouver:20190215T170000
DTSTAMP:20260423T150859
CREATED:20180424T202739Z
LAST-MODIFIED:20180424T203303Z
UID:3826-1550217600-1550250000@margaretjenkins.sd61.bc.ca
SUMMARY:ProD Day
DESCRIPTION:no school for students
URL:https://margaretjenkins.sd61.bc.ca/calendar-event/prod-day-15/
END:VEVENT
BEGIN:VEVENT
DTSTART;TZID=America/Vancouver:20190216T083000
DTEND;TZID=America/Vancouver:20190216T113000
DTSTAMP:20260423T150859
CREATED:20190129T195946Z
LAST-MODIFIED:20190129T195946Z
UID:4182-1550305800-1550316600@margaretjenkins.sd61.bc.ca
SUMMARY:SD61 Catchment Boundary Review Open House at Vic High
DESCRIPTION:in Andrews Gym
URL:https://margaretjenkins.sd61.bc.ca/calendar-event/sd61-catchment-boundary-review-open-house-at-vic-high/
END:VEVENT
BEGIN:VEVENT
DTSTART;TZID=America/Vancouver:20190218T080000
DTEND;TZID=America/Vancouver:20190218T170000
DTSTAMP:20260423T150859
CREATED:20180424T203332Z
LAST-MODIFIED:20180424T203332Z
UID:3828-1550476800-1550509200@margaretjenkins.sd61.bc.ca
SUMMARY:Family Day
DESCRIPTION:no school
URL:https://margaretjenkins.sd61.bc.ca/calendar-event/family-day-4/
END:VEVENT
BEGIN:VEVENT
DTSTART;TZID=America/Vancouver:20190219T080000
DTEND;TZID=America/Vancouver:20190225T150000
DTSTAMP:20260423T150859
CREATED:20181217T220133Z
LAST-MODIFIED:20181217T220133Z
UID:4158-1550563200-1551106800@margaretjenkins.sd61.bc.ca
SUMMARY:All new grade 1 - 12 registrations
DESCRIPTION:
URL:https://margaretjenkins.sd61.bc.ca/calendar-event/all-new-grade-1-12-registrations/
END:VEVENT
BEGIN:VEVENT
DTSTART;TZID=America/Vancouver:20190219T080000
DTEND;TZID=America/Vancouver:20190225T153000
DTSTAMP:20260423T150859
CREATED:20180528T221608Z
LAST-MODIFIED:20180528T222529Z
UID:3890-1550563200-1551108600@margaretjenkins.sd61.bc.ca
SUMMARY:K - 12 Student Transfer Process
DESCRIPTION:Are you wishing for your student to attend a school other than the one they are currently attending?  Please visit the office at your child’s current school to fill out a transfer request.  The deadline for transfer requests is February 25 2019 at 3:30 pm
URL:https://margaretjenkins.sd61.bc.ca/calendar-event/k-12-student-transfer-process-3/
END:VEVENT
BEGIN:VEVENT
DTSTART;TZID=America/Vancouver:20190227T190000
DTEND;TZID=America/Vancouver:20190227T200000
DTSTAMP:20260423T150859
CREATED:20190208T185052Z
LAST-MODIFIED:20190208T185709Z
UID:4188-1551294000-1551297600@margaretjenkins.sd61.bc.ca
SUMMARY:Mayor Visit with EMJS Parents
DESCRIPTION:7:00 pm in the library followed by a brief PAC Meeting.
URL:https://margaretjenkins.sd61.bc.ca/calendar-event/mayor-visit-with-emjs-parents/
END:VEVENT
BEGIN:VEVENT
DTSTART;TZID=America/Vancouver:20190228T190000
DTEND;TZID=America/Vancouver:20190228T210000
DTSTAMP:20260423T150859
CREATED:20181004T224641Z
LAST-MODIFIED:20190208T184920Z
UID:4050-1551380400-1551387600@margaretjenkins.sd61.bc.ca
SUMMARY:Cancelled - PAC Meeting
DESCRIPTION:
URL:https://margaretjenkins.sd61.bc.ca/calendar-event/pac-meeting-25/
END:VEVENT
END:VCALENDAR